{"text_format":"1","workbook":"xlsx","n_sheets":4,"sheets":["Read me - LAs","Level 1 Screening","Calculations","Sites"],"not_rendered":{"charts":0,"images":2,"macros":1,"external_links":0,"defined_names":6,"comments":0,"pivot_tables":0},"unopened":[],"bounds":{"document_bytes":16777216,"sheet_cells":100000,"rows_first":2000,"rows_last":500,"rows_between":2000,"halvings":0,"cell_chars":16384,"cell_head_chars":4096},"cells_cut":0,"cells_raw":0,"read":"whole","date_system":"1900"}

{"sheet":"Read me - LAs","index":0,"n_rows":22,"n_cols":3,"rows_kept":22,"cut":false,"hidden":false,"merged":[]}
[]
[]
[]
[]
[]
[]
[]
[null,null,"JBA Strategic Flood Risk Assessment Site Screening Tool - v2.0"]
[]
[null,null,"This spreadsheet has been designed to assist local authorities with the selection of development sites for inclusion within their local plan."]
[]
[null,null,"Note on calculations:"]
[null,null,"Site boundaries have been screened against flood risk information to determine the proportion of the site at risk.  The following flood risk information has been used in the assessment\n●  Flood Zones (from Environment Agency Flood Zones and results from detailed hydraulic models)\n●  Environment Agency's Risk of Flooding from Surface Water Map\n●  Environment Agency's Historic Flood Map\n●  Environment Agency's Risk of Flooding from Reservoirs Map\n●  JBA Groundwater Map\nFurther information on sources of data are given in the Level 1 SFRA report"]
[]
[null,null,"Additional information:"]
[null,null,"The sites have also been considered against the following information to provide additional information to support decision making\n●  Canal centrelines - to determine if there is a canal within 100m of the site\n●  Environment Agency's Areas Benefitting from Defences dataset - to determine if the site benefits from formal flood defences\n●  Detailed River Network dataset - to determine if their is a watercourse with a catchment less than 3km2 flowing through or adjacent to a site, which would not have been included in the Environment Agency's Flood Zones"]
[]
[null,null,"Note on Flood Zone and Surface Water percentages:"]
[null,null,"The values quoted in the Level 1 Screening tab show the percentage of the site at flood risk from that particular Flood Zone / event, excluding the percentage of the site at flood risk at a higher risk Flood Zone.  The total percentage of Flood Zone 3b, 3a, 2 and 1 is equal to 100%.  \n\nFor example\n50% of a site is in the Flood Zones.  Taking each Flood Zone individually, 50% is in Flood Zone 2 but only 30% is in Flood Zone 3a and only 10% is in Flood Zone 3b.\nIn the Level 1 Screening tab this will be displayed as 10% in Flood Zone 3b, 20% in Flood Zone 3a (as this excludes the 10% in Flood Zone 3b), 20% in Flood Zone 2 (as this excludes the 10% in Flood Zone 3b and 20% in Flood Zone 3a) and 50% in Flood Zone 1.\n\nThe only exception to the is Flood Zone 3a plus climate change, which can be larger than the existing Flood Zone 2, so is presented as a stand-alone percentage."]
[]
[null,null,"Using the spreadsheet"]
[null,null,"The spreadsheet has been designed to assist the selection of sites.  A number of screening options are available at the top of the Level 1 Screening tab.  Each option will allow sites to be screened against a user defined value.\n\nFor example\nTo select sites that are more than 50% in Flood Zone 2, click on 'Screen sites against a user-defined % in Flood Zone 2' icon, and enter 50 (do not include a % sign) when prompted.\nIn the first instance of using this spreadsheet, a search of sites that are 100% in FZ1 should be taken. This will help determine whether all development needs are within the sites that are covered in this selection. In the event that they are, then no further action needs to be taken to determine which sites should be adopted in the Local Plan for development. Where development needs exists outside of the sites in FZ1, assessment of sites in FZ2 should be made. \n\nThe last column and two screening buttons give an indication of whether the sites are within Flood Zone 1 at low risk of flood risk from all sources under the Council's chosen criteria:\n●  Site is within Flood Zone 1\n●  Site is not within Flood Zone 3a plus climate change\n●  Site is <10% at risk from surface water flooding in the 1 in 1000-year event\n●  Site is <10% within highest risk category in JBA Groundwater map (groundwater is <0.025m below the surface in the 1 in 100-year event)\n●  Site is <25% within second highest risk category in JBA Groundwater map (groundwater is between 0.025m and 0.5m below the surface in the 1 in 100-year event)\n●  Site is not within the Historic Flood Map\n●  Site is not at risk of reservoir flooding\nSewer flooding information is only provided at a postcode scale and is not suitable for a screening exercise but should be considered in any Level 2 assessment.\nThe remaining sites should be considered for Level 2 SFRA if the Council wishes to take them forward."]

{"sheet":"Level 1 Screening","index":1,"n_rows":112,"n_cols":22,"rows_kept":112,"cut":false,"hidden":false,"merged":[[7,0,8,0],[7,20,8,20],[8,3,8,8],[7,21,9,21],[7,2,8,2],[8,9,8,13],[8,17,8,19],[7,3,7,19],[7,1,8,1]]}
[]
[]
[]
[]
[]
[]
[]
["Site code","Site Name","Area (ha)","Proportion of site shown to be at risk (%)",null,null,null,null,null,null,null,null,null,null,null,null,null,null,null,null,"Proposed use","Is the site in FZ1 and at low risk from other sources? (see Read me tab for criteria)"]
[null,null,null,"Flood Zones",null,null,null,null,null,"Updated Flood Map for Surface Water",null,null,null,null,"Historic Flood Map","Risk of Flooding from Reservoirs","Presence of watercourse (Detailed River Network)","JBA Groundwater Flood Map (depth of water level below ground surface in 100 year event)"]
[null,null,null,"FZ 3b","FZ 3a","Total FZ3"," FZ 2","FZ 1","Total FZ3a+CC (70%)","30yr","100yr","Total 100yr","1,000yr","Total at surface water risk",null,null,null,"0 to 0.025m","0.025 to 0.5m","Total in high risk categories"]
[{"$f":"Calculations!B2","v":"OS2"}," Toulmin Drive/Highelms, St Albans, AL3 6DX",{"$f":"Calculations!C2","v":0.19338197679999999},{"$f":"Calculations!G2","v":0},{"$f":"Calculations!K2","v":0},{"$f":"Calculations!J2","v":0},{"$f":"Calculations!O2","v":0},{"$f":"Calculations!P2","v":1},{"$f":"Calculations!V2","v":0},{"$f":"Calculations!AD2","v":0},{"$f":"Calculations!AG2","v":0},{"$f":"Calculations!AG2","v":0},{"$f":"Calculations!AJ2","v":0},{"$f":"Calculations!AI2","v":{"$error":"#REF!"}},{"$f":"Calculations!X2","v":0},{"$f":"Calculations!Z2","v":0},{"$f":"Calculations!AT2","v":0},{"$f":"Calculations!AR2","v":0},{"$f":"Calculations!AP2","v":0},{"$f":"Calculations!AS2","v":0},"Residential",{"$f":"IF(AND($H11=1,I11=0,O11=0,Q11=0,$M11<0.1,$R11<0.1,$S11<0.25),\"Yes\",\"No\")","v":"Yes"}]
[{"$f":"Calculations!B3","v":"OS1"},"Land to the North of Bricket Wood, bounded by the M25 and A405 North Orbital",{"$f":"Calculations!C3","v":6.5233111778000001},{"$f":"Calculations!G3","v":0},{"$f":"Calculations!K3","v":0},{"$f":"Calculations!J3","v":0},{"$f":"Calculations!O3","v":0},{"$f":"Calculations!P3","v":1},{"$f":"Calculations!V3","v":0},{"$f":"Calculations!AD3","v":1.3479211554285268E-2},{"$f":"Calculations!AG3","v":4.1669034266685383E-2},{"$f":"Calculations!AG3","v":4.1669034266685383E-2},{"$f":"Calculations!AJ3","v":0.12784880491953893},{"$f":"Calculations!AI3","v":{"$error":"#REF!"}},{"$f":"Calculations!X3","v":0},{"$f":"Calculations!Z3","v":0},{"$f":"Calculations!AT3","v":0},{"$f":"Calculations!AR3","v":7.0274831018348666E-2},{"$f":"Calculations!AP3","v":0.54504331712703846},{"$f":"Calculations!AS3","v":0.6153181481453871},"Residential",{"$f":"IF(AND($H12=1,I12=0,O12=0,Q12=0,$M12<0.1,$R12<0.1,$S12<0.25),\"Yes\",\"No\")","v":"No"}]
[{"$f":"Calculations!B4","v":"B3"}," West Redbourn, Redbourne, AL3 7HZ",{"$f":"Calculations!C4","v":27.017108829500003},{"$f":"Calculations!G4","v":0},{"$f":"Calculations!K4","v":0},{"$f":"Calculations!J4","v":0},{"$f":"Calculations!O4","v":0},{"$f":"Calculations!P4","v":1},{"$f":"Calculations!V4","v":0},{"$f":"Calculations!AD4","v":1.2437607570099823E-2},{"$f":"Calculations!AG4","v":2.3156647957714809E-2},{"$f":"Calculations!AG4","v":2.3156647957714809E-2},{"$f":"Calculations!AJ4","v":5.6474122939239646E-2},{"$f":"Calculations!#REF!","v":{"$error":"#REF!"}},{"$f":"Calculations!X4","v":0},{"$f":"Calculations!Z4","v":7.04586030656793E-3},{"$f":"Calculations!AT4","v":0},{"$f":"Calculations!AR4","v":0},{"$f":"Calculations!AP4","v":5.9008644561524843E-3},{"$f":"Calculations!AS4","v":5.9008644561524843E-3},"Residential","Yes"]
[{"$f":"Calculations!B5","v":"H3"},"East Hemel Hempstead (Central), HP2 7LF",{"$f":"Calculations!C5","v":143.67959622949999},{"$f":"Calculations!G5","v":0},{"$f":"Calculations!K5","v":0},{"$f":"Calculations!J5","v":0},{"$f":"Calculations!O5","v":0},{"$f":"Calculations!P5","v":1},{"$f":"Calculations!V5","v":0},{"$f":"Calculations!AD5","v":2.7050117178725911E-2},{"$f":"Calculations!AG5","v":4.4786403479458003E-2},{"$f":"Calculations!AG5","v":4.4786403479458003E-2},{"$f":"Calculations!AJ5","v":0.10635503139354262},{"$f":"Calculations!AI4","v":{"$error":"#REF!"}},{"$f":"Calculations!X5","v":0},{"$f":"Calculations!Z5","v":0},{"$f":"Calculations!AT5","v":0},{"$f":"Calculations!AR5","v":0},{"$f":"Calculations!AP5","v":0},{"$f":"Calculations!AS4","v":5.9008644561524843E-3},"Residential","No"]
["ALD5","East Hemel Hempstead (South), HP2 4PA4",2.8964331701999999,{"$f":"Calculations!G5","v":0},{"$f":"Calculations!K5","v":0},{"$f":"Calculations!J5","v":0},{"$f":"Calculations!O5","v":0},{"$f":"Calculations!P5","v":1},{"$f":"Calculations!V5","v":0},{"$f":"Calculations!AD5","v":2.7050117178725911E-2},{"$f":"Calculations!AG5","v":4.4786403479458003E-2},{"$f":"Calculations!AG6","v":2.556221231040235E-2},{"$f":"Calculations!AJ5","v":0.10635503139354262},{"$f":"Calculations!AI5","v":{"$error":"#REF!"}},{"$f":"Calculations!X5","v":0},{"$f":"Calculations!Z5","v":0},{"$f":"Calculations!AT6","v":0},{"$f":"Calculations!AR5","v":0},{"$f":"Calculations!AP5","v":0},{"$f":"Calculations!AS5","v":0},"Residential","No"]
[{"$f":"Calculations!B7","v":"M25"}," Baulk Close, Harpenden, AL5 4LY",{"$f":"Calculations!C7","v":0.55562100680000004},{"$f":"Calculations!G7","v":0},{"$f":"Calculations!K7","v":1.79978796294856E-2},{"$f":"Calculations!J7","v":1.79978796294856E-2},{"$f":"Calculations!O7","v":0.19797667592434157},{"$f":"Calculations!P7","v":0.78402544444617284},{"$f":"Calculations!V7","v":0},{"$f":"Calculations!AD7","v":0},{"$f":"Calculations!AG7","v":4.9864039805775024E-3},{"$f":"Calculations!AG7","v":4.9864039805775024E-3},{"$f":"Calculations!AJ7","v":8.7449125042692685E-2},{"$f":"Calculations!AI6","v":{"$error":"#REF!"}},{"$f":"Calculations!X7","v":0.18324980437006758},{"$f":"Calculations!Z7","v":0.1432176201513625},{"$f":"Calculations!AT7","v":0},{"$f":"Calculations!AR7","v":1.2108005308772641E-2},{"$f":"Calculations!AP7","v":4.4288883787393901E-2},{"$f":"Calculations!AS6","v":0},"Residential","No"]
[{"$f":"Calculations!B8","v":"M6 "}," South of Harpenden Lane, Redbourn, AL3 7RQ",{"$f":"Calculations!C8","v":12.564116203899999},{"$f":"Calculations!G8","v":0},{"$f":"Calculations!K8","v":0.13053047053886138},{"$f":"Calculations!J8","v":0.13053047053886138},{"$f":"Calculations!O8","v":0.15599983064400511},{"$f":"Calculations!P8","v":0.71346969881713351},{"$f":"Calculations!V8","v":0},{"$f":"Calculations!AD8","v":0.16510284832100636},{"$f":"Calculations!AG8","v":0.22317355216991891},{"$f":"Calculations!AG8","v":0.22317355216991891},{"$f":"Calculations!AJ8","v":0.41149800863789826},{"$f":"Calculations!AI7","v":{"$error":"#REF!"}},{"$f":"Calculations!X8","v":0},{"$f":"Calculations!Z8","v":0.33962619594965682},{"$f":"Calculations!AT8","v":0},{"$f":"Calculations!AR8","v":0.51492209758389562},{"$f":"Calculations!AP8","v":0.12332239796692128},{"$f":"Calculations!AS7","v":5.6396889096166539E-2},"Residential","No"]
[{"$f":"Calculations!B9","v":"M16"}," Falconers Field, Harpenden, AL5 3ES",{"$f":"Calculations!C9","v":1.1580997708},{"$f":"Calculations!G9","v":0},{"$f":"Calculations!K9","v":0},{"$f":"Calculations!J9","v":0},{"$f":"Calculations!O9","v":0},{"$f":"Calculations!P9","v":1},{"$f":"Calculations!V9","v":0},{"$f":"Calculations!AD9","v":0},{"$f":"Calculations!AG9","v":0},{"$f":"Calculations!AG9","v":0},{"$f":"Calculations!AJ9","v":0},{"$f":"Calculations!AI8","v":{"$error":"#REF!"}},{"$f":"Calculations!X9","v":0},{"$f":"Calculations!Z9","v":0},{"$f":"Calculations!AT9","v":0},{"$f":"Calculations!AR9","v":0},{"$f":"Calculations!AP9","v":0},{"$f":"Calculations!AS8","v":0.63824449555081686},"Residential","Yes"]
[{"$f":"Calculations!B10","v":"M7"},"Townsend Lane, Harpenden, AL5 2RH",{"$f":"Calculations!C10","v":1.8828156492999999},{"$f":"Calculations!G10","v":0},{"$f":"Calculations!K10","v":0},{"$f":"Calculations!J10","v":0},{"$f":"Calculations!O10","v":0},{"$f":"Calculations!P10","v":1},{"$f":"Calculations!V10","v":0},{"$f":"Calculations!AD10","v":0},{"$f":"Calculations!AG10","v":5.7360899905496664E-3},{"$f":"Calculations!AG10","v":5.7360899905496664E-3},{"$f":"Calculations!AJ10","v":2.2094568852487603E-2},{"$f":"Calculations!AI9","v":{"$error":"#REF!"}},{"$f":"Calculations!X10","v":0},{"$f":"Calculations!Z10","v":0},{"$f":"Calculations!AT10","v":0},{"$f":"Calculations!AR10","v":0},{"$f":"Calculations!AP10","v":0},{"$f":"Calculations!AS9","v":0},"Residential","Yes"]
[{"$f":"Calculations!B11","v":"M22"},"Wood End, Hatching Green, Harpenden, AL5 2JT",{"$f":"Calculations!C11","v":0.76808437540000007},{"$f":"Calculations!G11","v":0},{"$f":"Calculations!K11","v":0},{"$f":"Calculations!J11","v":0},{"$f":"Calculations!O11","v":0},{"$f":"Calculations!P11","v":1},{"$f":"Calculations!V11","v":0},{"$f":"Calculations!AD11","v":0},{"$f":"Calculations!AG11","v":2.1872596993332872E-2},{"$f":"Calculations!AG11","v":2.1872596993332872E-2},{"$f":"Calculations!AJ11","v":4.1836117527147394E-2},{"$f":"Calculations!AI10","v":{"$error":"#REF!"}},{"$f":"Calculations!X11","v":0},{"$f":"Calculations!Z11","v":0},{"$f":"Calculations!AT11","v":0},{"$f":"Calculations!AR11","v":0},{"$f":"Calculations!AP11","v":0},{"$f":"Calculations!AS10","v":0},"Residential","Yes"]
[{"$f":"Calculations!B12","v":"M21"},"Rothamsted Lodge, Hatching Green, AL5 2GT",{"$f":"Calculations!C12","v":1.9297748954999998},{"$f":"Calculations!G12","v":0},{"$f":"Calculations!K12","v":0},{"$f":"Calculations!J12","v":0},{"$f":"Calculations!O12","v":0},{"$f":"Calculations!P12","v":1},{"$f":"Calculations!V12","v":0},{"$f":"Calculations!AD12","v":0},{"$f":"Calculations!AG12","v":0},{"$f":"Calculations!AG12","v":0},{"$f":"Calculations!AJ12","v":1.1022218212911767E-4},{"$f":"Calculations!AI11","v":{"$error":"#REF!"}},{"$f":"Calculations!X12","v":0},{"$f":"Calculations!Z12","v":0},{"$f":"Calculations!AT12","v":0},{"$f":"Calculations!AR12","v":0},{"$f":"Calculations!AP12","v":0},{"$f":"Calculations!AS11","v":0},"Residential","Yes"]
[{"$f":"Calculations!B13","v":"M1 a"},"Cross Lane, Harpenden, AL5 1BX",{"$f":"Calculations!C13","v":6.4710480763999998},{"$f":"Calculations!G13","v":0},{"$f":"Calculations!K13","v":0},{"$f":"Calculations!J13","v":0},{"$f":"Calculations!O13","v":0},{"$f":"Calculations!P13","v":1},{"$f":"Calculations!V13","v":0},{"$f":"Calculations!AD13","v":3.3535694285975466E-3},{"$f":"Calculations!AG13","v":8.3115959215561488E-3},{"$f":"Calculations!AG13","v":8.3115959215561488E-3},{"$f":"Calculations!AJ13","v":3.9293209183118225E-2},{"$f":"Calculations!AI12","v":{"$error":"#REF!"}},{"$f":"Calculations!X13","v":0},{"$f":"Calculations!Z13","v":0},{"$f":"Calculations!AT13","v":0},{"$f":"Calculations!AR13","v":0},{"$f":"Calculations!AP13","v":0},{"$f":"Calculations!AS12","v":0},"Residential","Yes"]
[{"$f":"Calculations!B14","v":"M5"},"Sewage Treatment Works, Piggottshill Lane, Harpenden, AL5 5UN",{"$f":"Calculations!C14","v":4.0995472989000001},{"$f":"Calculations!G14","v":0},{"$f":"Calculations!K14","v":0},{"$f":"Calculations!J14","v":0},{"$f":"Calculations!O14","v":0},{"$f":"Calculations!P14","v":1},{"$f":"Calculations!V14","v":0},{"$f":"Calculations!AD14","v":3.1201737185547758E-2},{"$f":"Calculations!AG14","v":0.11147903126343411},{"$f":"Calculations!AG14","v":0.11147903126343411},{"$f":"Calculations!AJ14","v":0.26936132433361543},{"$f":"Calculations!AI13","v":{"$error":"#REF!"}},{"$f":"Calculations!X14","v":0},{"$f":"Calculations!Z14","v":0},{"$f":"Calculations!AT14","v":0},{"$f":"Calculations!AR14","v":0},{"$f":"Calculations!AP14","v":0},{"$f":"Calculations!AS13","v":0},"Residential","No"]
[{"$f":"Calculations!B15","v":"M19"},"Piggotshill Lane, Harpenden, AL5 5UN",{"$f":"Calculations!C15","v":0.86301046580000007},{"$f":"Calculations!G15","v":0},{"$f":"Calculations!K15","v":0},{"$f":"Calculations!J15","v":0},{"$f":"Calculations!O15","v":0},{"$f":"Calculations!P15","v":1},{"$f":"Calculations!V15","v":0},{"$f":"Calculations!AD15","v":1.5011289449417009E-2},{"$f":"Calculations!AG15","v":1.8146877611133597E-2},{"$f":"Calculations!AG15","v":1.8146877611133597E-2},{"$f":"Calculations!AJ15","v":6.8099661161722141E-2},{"$f":"Calculations!AI14","v":{"$error":"#REF!"}},{"$f":"Calculations!X15","v":0},{"$f":"Calculations!Z15","v":0},{"$f":"Calculations!AT15","v":0},{"$f":"Calculations!AR15","v":0},{"$f":"Calculations!AP15","v":0},{"$f":"Calculations!AS14","v":0},"Residential","Yes"]
[{"$f":"Calculations!B16","v":"M24"},"South of Codicote Road, Wheathampstead, AL4 8GD",{"$f":"Calculations!C16","v":1.0039526531},{"$f":"Calculations!G16","v":0},{"$f":"Calculations!K16","v":0},{"$f":"Calculations!J16","v":0},{"$f":"Calculations!O16","v":0},{"$f":"Calculations!P16","v":1},{"$f":"Calculations!V16","v":0},{"$f":"Calculations!AD16","v":0},{"$f":"Calculations!AG16","v":0},{"$f":"Calculations!AG16","v":0},{"$f":"Calculations!AJ16","v":0},{"$f":"Calculations!AI15","v":{"$error":"#REF!"}},{"$f":"Calculations!X16","v":0},{"$f":"Calculations!Z16","v":0},{"$f":"Calculations!AT16","v":0},{"$f":"Calculations!AR16","v":0},{"$f":"Calculations!AP16","v":0},{"$f":"Calculations!AS15","v":0},"Residential","Yes"]
[{"$f":"Calculations!B17","v":"M2"},"Hill Dyke Road, Wheathampstead, AL4 8TR",{"$f":"Calculations!C17","v":3.5538439838999998},{"$f":"Calculations!G17","v":0},{"$f":"Calculations!K17","v":0},{"$f":"Calculations!J17","v":0},{"$f":"Calculations!O17","v":0},{"$f":"Calculations!P17","v":1},{"$f":"Calculations!V17","v":0},{"$f":"Calculations!AD17","v":0},{"$f":"Calculations!AG17","v":0},{"$f":"Calculations!AG17","v":0},{"$f":"Calculations!AJ17","v":0},{"$f":"Calculations!AI16","v":{"$error":"#REF!"}},{"$f":"Calculations!X17","v":0},{"$f":"Calculations!Z17","v":0},{"$f":"Calculations!AT17","v":0},{"$f":"Calculations!AR17","v":0},{"$f":"Calculations!AP17","v":0},{"$f":"Calculations!AS16","v":0},"Residential","Yes"]
[{"$f":"Calculations!B18","v":"M26"},"Highway Chipping Depot, Lower Luton Roa, AL4 8JJ",{"$f":"Calculations!C18","v":0.33922200889999998},{"$f":"Calculations!G18","v":0},{"$f":"Calculations!K18","v":0},{"$f":"Calculations!J18","v":0},{"$f":"Calculations!O18","v":0.32427141256753522},{"$f":"Calculations!P18","v":0.67572858743246478},{"$f":"Calculations!V18","v":0},{"$f":"Calculations!AD18","v":8.7883448649666919E-6},{"$f":"Calculations!AG18","v":1.2138304390543926E-3},{"$f":"Calculations!AG18","v":1.2138304390543926E-3},{"$f":"Calculations!AJ18","v":8.5024023333646389E-3},{"$f":"Calculations!AI17","v":{"$error":"#REF!"}},{"$f":"Calculations!X18","v":0.32181470139274326},{"$f":"Calculations!Z18","v":2.183067963076378E-2},{"$f":"Calculations!AT18","v":0},{"$f":"Calculations!AR18","v":0.16557595623625235},{"$f":"Calculations!AP18","v":6.4498081274112759E-2},{"$f":"Calculations!AS17","v":0},"Residential","No"]
[{"$f":"Calculations!B19","v":"M17"},"North of Wheathampstead Road, Harpenden, AL5 1 Ab",{"$f":"Calculations!C19","v":2.2588565012999999},{"$f":"Calculations!G19","v":0},{"$f":"Calculations!K19","v":0},{"$f":"Calculations!J19","v":0},{"$f":"Calculations!O19","v":0},{"$f":"Calculations!P19","v":1},{"$f":"Calculations!V19","v":0},{"$f":"Calculations!AD19","v":0},{"$f":"Calculations!AG19","v":0},{"$f":"Calculations!AG19","v":0},{"$f":"Calculations!AJ19","v":0},{"$f":"Calculations!AI18","v":{"$error":"#REF!"}},{"$f":"Calculations!X19","v":0},{"$f":"Calculations!Z19","v":0},{"$f":"Calculations!AT19","v":0},{"$f":"Calculations!AR19","v":0},{"$f":"Calculations!AP19","v":0},{"$f":"Calculations!AS18","v":0.23007403751036509},"Residential","Yes"]
[{"$f":"Calculations!B20","v":"M20"},"Lower Luton Road, Harpenden, AL5 5AF",{"$f":"Calculations!C20","v":0.73588067130000001},{"$f":"Calculations!G20","v":0},{"$f":"Calculations!K20","v":0},{"$f":"Calculations!J20","v":0},{"$f":"Calculations!O20","v":2.7178319502084741E-2},{"$f":"Calculations!P20","v":0.97282168049791529},{"$f":"Calculations!V20","v":0},{"$f":"Calculations!AD20","v":0},{"$f":"Calculations!AG20","v":0},{"$f":"Calculations!AG20","v":0},{"$f":"Calculations!AJ20","v":1.5854428652663538E-2},{"$f":"Calculations!AI19","v":{"$error":"#REF!"}},{"$f":"Calculations!X20","v":0},{"$f":"Calculations!Z20","v":0.17819006031012188},{"$f":"Calculations!AT20","v":0},{"$f":"Calculations!AR20","v":0.58006807346347544},{"$f":"Calculations!AP20","v":9.8895607315566139E-2},{"$f":"Calculations!AS19","v":0},"Residential","No"]
[{"$f":"Calculations!B21","v":"M4"},"North of Oakwood Road, Bricket Wood, AL2 3PT",{"$f":"Calculations!C21","v":3.0680694603999998},{"$f":"Calculations!G21","v":0},{"$f":"Calculations!K21","v":0},{"$f":"Calculations!J21","v":0},{"$f":"Calculations!O21","v":0},{"$f":"Calculations!P21","v":1},{"$f":"Calculations!V21","v":0},{"$f":"Calculations!AD21","v":0},{"$f":"Calculations!AG21","v":0},{"$f":"Calculations!AG21","v":0},{"$f":"Calculations!AJ21","v":2.1770165526595324E-2},{"$f":"Calculations!AI20","v":{"$error":"#REF!"}},{"$f":"Calculations!X21","v":0},{"$f":"Calculations!Z21","v":0},{"$f":"Calculations!AT21","v":0},{"$f":"Calculations!AR21","v":0},{"$f":"Calculations!AP21","v":1.0000000132330773},{"$f":"Calculations!AS20","v":0.67896368077904157},"Residential","No"]
[{"$f":"Calculations!B22","v":"M15"},"Bucknalls Drive, Bricket Wood, AL2 3YT",{"$f":"Calculations!C22","v":1.2758420158000001},{"$f":"Calculations!G22","v":0},{"$f":"Calculations!K22","v":0},{"$f":"Calculations!J22","v":0},{"$f":"Calculations!O22","v":0},{"$f":"Calculations!P22","v":1},{"$f":"Calculations!V22","v":0},{"$f":"Calculations!AD22","v":0},{"$f":"Calculations!AG22","v":0},{"$f":"Calculations!AG22","v":0},{"$f":"Calculations!AJ22","v":2.2982867499949596E-2},{"$f":"Calculations!AI21","v":{"$error":"#REF!"}},{"$f":"Calculations!X22","v":0},{"$f":"Calculations!Z22","v":0},{"$f":"Calculations!AT22","v":0},{"$f":"Calculations!AR22","v":0},{"$f":"Calculations!AP22","v":0},{"$f":"Calculations!AS21","v":1.0000000132330773},"Residential","Yes"]
[{"$f":"Calculations!B23","v":"M1"},"East and West of Miriam Lane, Chiswell Green, AL2 3NY ",{"$f":"Calculations!C23","v":4.0764700624999994},{"$f":"Calculations!G23","v":0},{"$f":"Calculations!K23","v":0},{"$f":"Calculations!J23","v":0},{"$f":"Calculations!O23","v":0},{"$f":"Calculations!P23","v":1},{"$f":"Calculations!V23","v":0},{"$f":"Calculations!AD23","v":2.2317200569408084E-5},{"$f":"Calculations!AG23","v":2.3048157243764872E-3},{"$f":"Calculations!AG23","v":2.3048157243764872E-3},{"$f":"Calculations!AJ23","v":0.10208220939191555},{"$f":"Calculations!AI22","v":{"$error":"#REF!"}},{"$f":"Calculations!X23","v":0},{"$f":"Calculations!Z23","v":0},{"$f":"Calculations!AT23","v":0},{"$f":"Calculations!AR23","v":0},{"$f":"Calculations!AP23","v":0},{"$f":"Calculations!AS22","v":0},"Residential","No"]
[{"$f":"Calculations!B24","v":"M3"},"Bedmond Lane, St Albans, AL3 4AH",{"$f":"Calculations!C24","v":5.8355313460999998},{"$f":"Calculations!G24","v":0},{"$f":"Calculations!K24","v":0},{"$f":"Calculations!J24","v":0},{"$f":"Calculations!O24","v":0},{"$f":"Calculations!P24","v":1},{"$f":"Calculations!V24","v":0},{"$f":"Calculations!AD24","v":0},{"$f":"Calculations!AG24","v":4.6050790418527719E-3},{"$f":"Calculations!AG24","v":4.6050790418527719E-3},{"$f":"Calculations!AJ24","v":1.7698594759331474E-2},{"$f":"Calculations!AI23","v":{"$error":"#REF!"}},{"$f":"Calculations!X24","v":0},{"$f":"Calculations!Z24","v":0},{"$f":"Calculations!AT24","v":0},{"$f":"Calculations!AR24","v":0},{"$f":"Calculations!AP24","v":0},{"$f":"Calculations!AS23","v":0},"Residential","Yes"]
[{"$f":"Calculations!B25","v":"M10"},"Tippendell Lane and Orchard Drive, How Wood, AL2 2HJ",{"$f":"Calculations!C25","v":2.3194843134999998},{"$f":"Calculations!G25","v":0},{"$f":"Calculations!K25","v":0},{"$f":"Calculations!J25","v":0},{"$f":"Calculations!O25","v":0},{"$f":"Calculations!P25","v":1},{"$f":"Calculations!V25","v":0},{"$f":"Calculations!AD25","v":3.7547963912970869E-2},{"$f":"Calculations!AG25","v":5.7718177924638077E-2},{"$f":"Calculations!AG25","v":5.7718177924638077E-2},{"$f":"Calculations!AJ25","v":0.21820293711591854},{"$f":"Calculations!AI24","v":{"$error":"#REF!"}},{"$f":"Calculations!X25","v":0},{"$f":"Calculations!Z25","v":0},{"$f":"Calculations!AT25","v":0},{"$f":"Calculations!AR25","v":0},{"$f":"Calculations!AP25","v":0},{"$f":"Calculations!AS24","v":0},"Residential","No"]
[{"$f":"Calculations!B26","v":"L2"},"West of Watling Street, Park Street, AL2 2PZ",{"$f":"Calculations!C26","v":4.3267615155000003},{"$f":"Calculations!G26","v":0},{"$f":"Calculations!K26","v":0},{"$f":"Calculations!J26","v":0},{"$f":"Calculations!O26","v":0},{"$f":"Calculations!P26","v":1},{"$f":"Calculations!V26","v":0},{"$f":"Calculations!AD26","v":1.063150807716386E-2},{"$f":"Calculations!AG26","v":2.7526848122627939E-2},{"$f":"Calculations!AG26","v":2.7526848122627939E-2},{"$f":"Calculations!AJ26","v":6.3289853605059412E-2},{"$f":"Calculations!AI25","v":{"$error":"#REF!"}},{"$f":"Calculations!X26","v":0},{"$f":"Calculations!Z26","v":0},{"$f":"Calculations!AT26","v":0},{"$f":"Calculations!AR26","v":0},{"$f":"Calculations!AP26","v":0},{"$f":"Calculations!AS25","v":0},"Residential","Yes"]
[{"$f":"Calculations!B27","v":"M27"},"Frogmore Vicarage, Frogmore, AL2 2JU",{"$f":"Calculations!C27","v":1.0607514749},{"$f":"Calculations!G27","v":0},{"$f":"Calculations!K27","v":0},{"$f":"Calculations!J27","v":0},{"$f":"Calculations!O27","v":0},{"$f":"Calculations!P27","v":1},{"$f":"Calculations!V27","v":0},{"$f":"Calculations!AD27","v":0},{"$f":"Calculations!AG27","v":0},{"$f":"Calculations!AG27","v":0},{"$f":"Calculations!AJ27","v":0},{"$f":"Calculations!AI26","v":{"$error":"#REF!"}},{"$f":"Calculations!X27","v":0},{"$f":"Calculations!Z27","v":0},{"$f":"Calculations!AT27","v":0},{"$f":"Calculations!AR27","v":0},{"$f":"Calculations!AP27","v":0},{"$f":"Calculations!AS26","v":0},"Residential","Yes"]
[{"$f":"Calculations!B28","v":"M13"},"North of Boissy Close, Colney Heath, AL4 0UE",{"$f":"Calculations!C28","v":1.4346951383},{"$f":"Calculations!G28","v":0},{"$f":"Calculations!K28","v":0},{"$f":"Calculations!J28","v":0},{"$f":"Calculations!O28","v":0},{"$f":"Calculations!P28","v":1},{"$f":"Calculations!V28","v":0},{"$f":"Calculations!AD28","v":6.0299822373769034E-3},{"$f":"Calculations!AG28","v":1.5242012059726792E-2},{"$f":"Calculations!AG28","v":1.5242012059726792E-2},{"$f":"Calculations!AJ28","v":5.2418973475516377E-2},{"$f":"Calculations!AI27","v":{"$error":"#REF!"}},{"$f":"Calculations!X28","v":0},{"$f":"Calculations!Z28","v":0},{"$f":"Calculations!AT28","v":0},{"$f":"Calculations!AR28","v":0},{"$f":"Calculations!AP28","v":0},{"$f":"Calculations!AS27","v":0},"Residential","Yes"]
[{"$f":"Calculations!B29","v":"B5"},"Glinwell, Hatfield Road, St Albans, AL4 0HE",{"$f":"Calculations!C29","v":20.8470974994},{"$f":"Calculations!G29","v":0},{"$f":"Calculations!K29","v":0.11128647525473374},{"$f":"Calculations!J29","v":0.11128647525473374},{"$f":"Calculations!O29","v":2.4943520315716186E-2},{"$f":"Calculations!P29","v":0.8637700044295501},{"$f":"Calculations!V29","v":0},{"$f":"Calculations!AD29","v":2.4788756536245547E-2},{"$f":"Calculations!AG29","v":5.0686297218613369E-2},{"$f":"Calculations!AG29","v":5.0686297218613369E-2},{"$f":"Calculations!AJ29","v":0.25590613314172606},{"$f":"Calculations!AI28","v":{"$error":"#REF!"}},{"$f":"Calculations!X29","v":0},{"$f":"Calculations!Z29","v":0},{"$f":"Calculations!AT29","v":0},{"$f":"Calculations!AR29","v":0.29028715345021883},{"$f":"Calculations!AP29","v":8.2142757247107678E-2},{"$f":"Calculations!AS28","v":0},"Residential","No"]
["BH1","East of Kay Walk, St Albans, AL4 0XH",77.652884229799994,{"$f":"Calculations!G29","v":0},{"$f":"Calculations!K29","v":0.11128647525473374},{"$f":"Calculations!J29","v":0.11128647525473374},{"$f":"Calculations!O29","v":2.4943520315716186E-2},{"$f":"Calculations!P29","v":0.8637700044295501},{"$f":"Calculations!V29","v":0},{"$f":"Calculations!AD29","v":2.4788756536245547E-2},{"$f":"Calculations!AG29","v":5.0686297218613369E-2},{"$f":"Calculations!AG30","v":4.2670221572178235E-3},{"$f":"Calculations!AJ29","v":0.25590613314172606},{"$f":"Calculations!AI29","v":{"$error":"#REF!"}},{"$f":"Calculations!X29","v":0},{"$f":"Calculations!Z29","v":0},{"$f":"Calculations!AT30","v":0},{"$f":"Calculations!AR29","v":0.29028715345021883},{"$f":"Calculations!AP29","v":8.2142757247107678E-2},{"$f":"Calculations!AS29","v":0.3724299106973265},"Residential, with leisure/recreation and community facility associated with a wider housing development","No"]
[{"$f":"Calculations!B31","v":"L1"},"Burston Nurseriess, North Orbital Road, St albans, AL2 2DS",{"$f":"Calculations!C31","v":14.327254876899998},{"$f":"Calculations!G31","v":0},{"$f":"Calculations!K31","v":0},{"$f":"Calculations!J31","v":0},{"$f":"Calculations!O31","v":0},{"$f":"Calculations!P31","v":1},{"$f":"Calculations!V31","v":0},{"$f":"Calculations!AD31","v":9.3784690126957025E-3},{"$f":"Calculations!AG31","v":2.673795744484499E-2},{"$f":"Calculations!AG31","v":2.673795744484499E-2},{"$f":"Calculations!AJ31","v":8.4701898055615246E-2},{"$f":"Calculations!AI30","v":{"$error":"#REF!"}},{"$f":"Calculations!X31","v":0},{"$f":"Calculations!Z31","v":0},{"$f":"Calculations!AT31","v":0},{"$f":"Calculations!AR31","v":0},{"$f":"Calculations!AP31","v":0},{"$f":"Calculations!AS30","v":0},"Residential","Yes"]
[{"$f":"Calculations!B32","v":"B6"}," West of London Colney, AL2 1LN",{"$f":"Calculations!C32","v":13.5046065704},{"$f":"Calculations!G32","v":0},{"$f":"Calculations!K32","v":0},{"$f":"Calculations!J32","v":0},{"$f":"Calculations!O32","v":0},{"$f":"Calculations!P32","v":1},{"$f":"Calculations!V32","v":0},{"$f":"Calculations!AD32","v":1.2037281156809375E-2},{"$f":"Calculations!AG32","v":1.4977234986121413E-2},{"$f":"Calculations!AG32","v":1.4977234986121413E-2},{"$f":"Calculations!AJ32","v":5.9372891310838886E-2},{"$f":"Calculations!AI31","v":{"$error":"#REF!"}},{"$f":"Calculations!X32","v":7.4872384821355895E-3},{"$f":"Calculations!Z32","v":0},{"$f":"Calculations!AT32","v":0},{"$f":"Calculations!AR32","v":0},{"$f":"Calculations!AP32","v":0},{"$f":"Calculations!AS31","v":0},"Residential","No"]
[{"$f":"Calculations!B33","v":"B8"},"Harper Lane, north of Radlett, WD7 7HU",{"$f":"Calculations!C33","v":11.4012446846},{"$f":"Calculations!G33","v":0},{"$f":"Calculations!K33","v":1.4033555495578194E-2},{"$f":"Calculations!J33","v":1.4033555495578194E-2},{"$f":"Calculations!O33","v":6.1396805293154593E-3},{"$f":"Calculations!P33","v":0.97982676397510637},{"$f":"Calculations!V33","v":0},{"$f":"Calculations!AD33","v":0},{"$f":"Calculations!AG33","v":0},{"$f":"Calculations!AG33","v":0},{"$f":"Calculations!AJ33","v":1.6489301905250331E-2},{"$f":"Calculations!AI32","v":{"$error":"#REF!"}},{"$f":"Calculations!X33","v":0},{"$f":"Calculations!Z33","v":0},{"$f":"Calculations!AT33","v":0},{"$f":"Calculations!AR33","v":2.036435550879906E-6},{"$f":"Calculations!AP33","v":0},{"$f":"Calculations!AS32","v":0},"Residential","No"]
[{"$f":"Calculations!B34","v":"M8"},"Verulam Golf Club, St Albans, AL1 1JG",{"$f":"Calculations!C34","v":2.7979560754999997},{"$f":"Calculations!G34","v":0},{"$f":"Calculations!K34","v":0},{"$f":"Calculations!J34","v":0},{"$f":"Calculations!O34","v":0},{"$f":"Calculations!P34","v":1},{"$f":"Calculations!V34","v":0},{"$f":"Calculations!AD34","v":3.0723336457180922E-2},{"$f":"Calculations!AG34","v":7.0612369018228358E-2},{"$f":"Calculations!AG34","v":7.0612369018228358E-2},{"$f":"Calculations!AJ34","v":0.15487113103538069},{"$f":"Calculations!AI33","v":{"$error":"#REF!"}},{"$f":"Calculations!X34","v":0},{"$f":"Calculations!Z34","v":0},{"$f":"Calculations!AT34","v":0},{"$f":"Calculations!AR34","v":0},{"$f":"Calculations!AP34","v":0},{"$f":"Calculations!AS33","v":2.036435550879906E-6},"Residential","No"]
[{"$f":"Calculations!B35","v":"B7"},"North West Harpenden, AL5 3NP",{"$f":"Calculations!C35","v":12.188416180000001},{"$f":"Calculations!G35","v":0},{"$f":"Calculations!K35","v":0},{"$f":"Calculations!J35","v":0},{"$f":"Calculations!O35","v":0},{"$f":"Calculations!P35","v":1},{"$f":"Calculations!V35","v":0},{"$f":"Calculations!AD35","v":1.2616796778923246E-4},{"$f":"Calculations!AG35","v":6.4255415013240861E-4},{"$f":"Calculations!AG35","v":6.4255415013240861E-4},{"$f":"Calculations!AJ35","v":8.5680940245018766E-2},{"$f":"Calculations!AI34","v":{"$error":"#REF!"}},{"$f":"Calculations!X35","v":0},{"$f":"Calculations!Z35","v":0},{"$f":"Calculations!AT35","v":0},{"$f":"Calculations!AR35","v":0},{"$f":"Calculations!AP35","v":0},{"$f":"Calculations!AS34","v":0},"Residential","Yes"]
[{"$f":"Calculations!B36","v":"M14"},"Beesonend Lane, Harpenden, AL5 2AB",{"$f":"Calculations!C36","v":2.0297519310999999},{"$f":"Calculations!G36","v":0},{"$f":"Calculations!K36","v":0},{"$f":"Calculations!J36","v":0},{"$f":"Calculations!O36","v":0},{"$f":"Calculations!P36","v":1},{"$f":"Calculations!V36","v":0},{"$f":"Calculations!AD36","v":0},{"$f":"Calculations!AG36","v":7.2915314296458471E-3},{"$f":"Calculations!AG36","v":7.2915314296458471E-3},{"$f":"Calculations!AJ36","v":1.3651113308700624E-2},{"$f":"Calculations!AI35","v":{"$error":"#REF!"}},{"$f":"Calculations!X36","v":0},{"$f":"Calculations!Z36","v":0},{"$f":"Calculations!AT36","v":0},{"$f":"Calculations!AR36","v":0},{"$f":"Calculations!AP36","v":0},{"$f":"Calculations!AS35","v":0},"Residential","Yes"]
[{"$f":"Calculations!B37","v":"M9"},"Amwell Top Field, Wheathampstead, AL4 8DZ",{"$f":"Calculations!C37","v":4.2666477615999998},{"$f":"Calculations!G37","v":0},{"$f":"Calculations!K37","v":0},{"$f":"Calculations!J37","v":0},{"$f":"Calculations!O37","v":0},{"$f":"Calculations!P37","v":1},{"$f":"Calculations!V37","v":0},{"$f":"Calculations!AD37","v":0},{"$f":"Calculations!AG37","v":1.1798489777633394E-7},{"$f":"Calculations!AG37","v":1.1798489777633394E-7},{"$f":"Calculations!AJ37","v":8.7581751501293187E-3},{"$f":"Calculations!AI36","v":{"$error":"#REF!"}},{"$f":"Calculations!X37","v":0},{"$f":"Calculations!Z37","v":0},{"$f":"Calculations!AT37","v":0},{"$f":"Calculations!AR37","v":0},{"$f":"Calculations!AP37","v":0},{"$f":"Calculations!AS36","v":0},"Residential","Yes"]
["BRAD7","North of The Slype, Gustard Wood, AL4 8SA",12.5209581737,{"$f":"Calculations!G37","v":0},{"$f":"Calculations!K37","v":0},{"$f":"Calculations!J37","v":0},{"$f":"Calculations!O37","v":0},{"$f":"Calculations!P37","v":1},{"$f":"Calculations!V37","v":0},{"$f":"Calculations!AD37","v":0},{"$f":"Calculations!AG37","v":1.1798489777633394E-7},{"$f":"Calculations!AG38","v":3.4010441832052256E-2},{"$f":"Calculations!AJ37","v":8.7581751501293187E-3},{"$f":"Calculations!AI37","v":{"$error":"#REF!"}},{"$f":"Calculations!X37","v":0},{"$f":"Calculations!Z37","v":0},{"$f":"Calculations!AT38","v":0},{"$f":"Calculations!AR37","v":0},{"$f":"Calculations!AP37","v":0},{"$f":"Calculations!AS37","v":0},"Residential","Yes"]
[{"$f":"Calculations!B39","v":"H1"},"North Hemel Hempstead, AL3 7AU",{"$f":"Calculations!C39","v":88.834999632700004},{"$f":"Calculations!G39","v":0},{"$f":"Calculations!K39","v":0},{"$f":"Calculations!J39","v":0},{"$f":"Calculations!O39","v":0},{"$f":"Calculations!P39","v":1},{"$f":"Calculations!V39","v":0},{"$f":"Calculations!AD39","v":3.0895100086089606E-2},{"$f":"Calculations!AG39","v":4.4344254004476211E-2},{"$f":"Calculations!AG39","v":4.4344254004476211E-2},{"$f":"Calculations!AJ39","v":0.11943289929270785},{"$f":"Calculations!AI38","v":{"$error":"#REF!"}},{"$f":"Calculations!X39","v":0},{"$f":"Calculations!Z39","v":2.1242495618870587E-2},{"$f":"Calculations!AT39","v":0},{"$f":"Calculations!AR39","v":6.0950913968450164E-4},{"$f":"Calculations!AP39","v":7.1463647688958146E-2},{"$f":"Calculations!AS38","v":0},"Residential","No"]
[{"$f":"Calculations!B40","v":"H2 "},"East Hemel Hempstead (North), HP2 7HT",{"$f":"Calculations!C40","v":169.37634958429999},{"$f":"Calculations!G40","v":0},{"$f":"Calculations!K40","v":0},{"$f":"Calculations!J40","v":0},{"$f":"Calculations!O40","v":0},{"$f":"Calculations!P40","v":1},{"$f":"Calculations!V40","v":0},{"$f":"Calculations!AD40","v":3.3376511437249748E-2},{"$f":"Calculations!AG40","v":4.7556177547627546E-2},{"$f":"Calculations!AG40","v":4.7556177547627546E-2},{"$f":"Calculations!AJ40","v":0.10286363784944247},{"$f":"Calculations!AI39","v":{"$error":"#REF!"}},{"$f":"Calculations!X40","v":0},{"$f":"Calculations!Z40","v":7.294677720368857E-2},{"$f":"Calculations!AT40","v":0},{"$f":"Calculations!AR40","v":0},{"$f":"Calculations!AP40","v":0},{"$f":"Calculations!AS39","v":7.2073156828642654E-2},"Residential","No"]
[{"$f":"Calculations!B41","v":"B2"},"North East Harpenden, AL5 5EG",{"$f":"Calculations!C41","v":43.237137070599999},{"$f":"Calculations!G41","v":0},{"$f":"Calculations!K41","v":0},{"$f":"Calculations!J41","v":0},{"$f":"Calculations!O41","v":9.2513063329530305E-4},{"$f":"Calculations!P41","v":0.99907486936670464},{"$f":"Calculations!V41","v":0},{"$f":"Calculations!AD41","v":3.9629058260776803E-3},{"$f":"Calculations!AG41","v":9.9166250901368963E-3},{"$f":"Calculations!AG41","v":9.9166250901368963E-3},{"$f":"Calculations!AJ41","v":6.8289221015692611E-2},{"$f":"Calculations!AI40","v":{"$error":"#REF!"}},{"$f":"Calculations!X41","v":0},{"$f":"Calculations!Z41","v":5.8591260167468002E-3},{"$f":"Calculations!AT41","v":0},{"$f":"Calculations!AR41","v":0},{"$f":"Calculations!AP41","v":0},{"$f":"Calculations!AS40","v":0},"Residential","No"]
[{"$f":"Calculations!B42","v":"P1"},"Smallford Works, Smallford Lane, AL4 0SA",{"$f":"Calculations!C42","v":3.3350426756},{"$f":"Calculations!G42","v":0},{"$f":"Calculations!K42","v":0},{"$f":"Calculations!J42","v":0},{"$f":"Calculations!O42","v":0},{"$f":"Calculations!P42","v":1},{"$f":"Calculations!V42","v":0},{"$f":"Calculations!AD42","v":4.0705769972066862E-4},{"$f":"Calculations!AG42","v":3.4843596110533679E-3},{"$f":"Calculations!AG42","v":3.4843596110533679E-3},{"$f":"Calculations!AJ42","v":0.4622309588655148},{"$f":"Calculations!AI41","v":{"$error":"#REF!"}},{"$f":"Calculations!X42","v":0},{"$f":"Calculations!Z42","v":0},{"$f":"Calculations!AT42","v":0},{"$f":"Calculations!AR42","v":0.55224485508829446},{"$f":"Calculations!AP42","v":2.5821438697034706E-2},{"$f":"Calculations!AS41","v":0},"Residential","No"]
[{"$f":"Calculations!B43","v":"P2"},"Land at North Orbital Road, AL2 1DL",{"$f":"Calculations!C43","v":1.8820350386999998},{"$f":"Calculations!G43","v":0},{"$f":"Calculations!K43","v":0},{"$f":"Calculations!J43","v":0},{"$f":"Calculations!O43","v":0},{"$f":"Calculations!P43","v":1},{"$f":"Calculations!V43","v":0},{"$f":"Calculations!AD43","v":1.573965882190034E-2},{"$f":"Calculations!AG43","v":3.0191086792543682E-2},{"$f":"Calculations!AG43","v":3.0191086792543682E-2},{"$f":"Calculations!AJ43","v":6.6784364167215338E-2},{"$f":"Calculations!AI42","v":{"$error":"#REF!"}},{"$f":"Calculations!X43","v":0},{"$f":"Calculations!Z43","v":0},{"$f":"Calculations!AT43","v":0},{"$f":"Calculations!AR43","v":0},{"$f":"Calculations!AP43","v":0.93992628459346028},{"$f":"Calculations!AS42","v":0.57806629378532914},"Residential","No"]
[{"$f":"Calculations!B44","v":"M11"},"Rothamsted Research, Harpenden Campus, AL5 2JQ",{"$f":"Calculations!C44","v":1.6179728553000001},{"$f":"Calculations!G44","v":0},{"$f":"Calculations!K44","v":0},{"$f":"Calculations!J44","v":0},{"$f":"Calculations!O44","v":0},{"$f":"Calculations!P44","v":1},{"$f":"Calculations!V44","v":0},{"$f":"Calculations!AD44","v":0},{"$f":"Calculations!AG44","v":0},{"$f":"Calculations!AG44","v":0},{"$f":"Calculations!AJ44","v":0},{"$f":"Calculations!AI43","v":{"$error":"#REF!"}},{"$f":"Calculations!X44","v":0},{"$f":"Calculations!Z44","v":0},{"$f":"Calculations!AT44","v":0},{"$f":"Calculations!AR44","v":0},{"$f":"Calculations!AP44","v":0},{"$f":"Calculations!AS43","v":0.93992628459346028},"Residential","Yes"]
[{"$f":"Calculations!B45","v":"B1"},"North St Albans, AL3 6DD",{"$f":"Calculations!C45","v":46.748278584700003},{"$f":"Calculations!G45","v":0},{"$f":"Calculations!K45","v":0},{"$f":"Calculations!J45","v":0},{"$f":"Calculations!O45","v":0},{"$f":"Calculations!P45","v":1},{"$f":"Calculations!V45","v":0},{"$f":"Calculations!AD45","v":2.2868598867507594E-2},{"$f":"Calculations!AG45","v":4.3192570332650629E-2},{"$f":"Calculations!AG45","v":4.3192570332650629E-2},{"$f":"Calculations!AJ45","v":0.14590080804670061},{"$f":"Calculations!AI44","v":{"$error":"#REF!"}},{"$f":"Calculations!X45","v":0},{"$f":"Calculations!Z45","v":0},{"$f":"Calculations!AT45","v":0},{"$f":"Calculations!AR45","v":0},{"$f":"Calculations!AP45","v":0},{"$f":"Calculations!AS44","v":0},"Residential","No"]
[{"$f":"Calculations!B46","v":"B4"},"East St Albans, AL4 9JJ",{"$f":"Calculations!C46","v":21.686293457400001},{"$f":"Calculations!G46","v":0},{"$f":"Calculations!K46","v":0},{"$f":"Calculations!J46","v":0},{"$f":"Calculations!O46","v":0},{"$f":"Calculations!P46","v":1},{"$f":"Calculations!V46","v":0},{"$f":"Calculations!AD46","v":2.5205769122038568E-3},{"$f":"Calculations!AG46","v":2.0683864823702245E-2},{"$f":"Calculations!AG46","v":2.0683864823702245E-2},{"$f":"Calculations!AJ46","v":8.6772449519624276E-2},{"$f":"Calculations!AI45","v":{"$error":"#REF!"}},{"$f":"Calculations!X46","v":0},{"$f":"Calculations!Z46","v":0},{"$f":"Calculations!AT46","v":0},{"$f":"Calculations!AR46","v":0},{"$f":"Calculations!AP46","v":0.31154705435817809},{"$f":"Calculations!AS45","v":0},"Residential","No"]
[{"$f":"Calculations!B47","v":"M23"},"Ashdale Lye Lane, Bricket Wood, AL2 3LQ",{"$f":"Calculations!C47","v":2.2564923885999999},{"$f":"Calculations!G47","v":0},{"$f":"Calculations!K47","v":0},{"$f":"Calculations!J47","v":0},{"$f":"Calculations!O47","v":0},{"$f":"Calculations!P47","v":1},{"$f":"Calculations!V47","v":0},{"$f":"Calculations!AD47","v":0},{"$f":"Calculations!AG47","v":0},{"$f":"Calculations!AG47","v":0},{"$f":"Calculations!AJ47","v":6.5382393818547452E-3},{"$f":"Calculations!AI46","v":{"$error":"#REF!"}},{"$f":"Calculations!X47","v":0},{"$f":"Calculations!Z47","v":0},{"$f":"Calculations!AT47","v":0},{"$f":"Calculations!AR47","v":0},{"$f":"Calculations!AP47","v":0},{"$f":"Calculations!AS46","v":0.31154705435817809},"Residential","Yes"]
["BUR12","Land South West of London Colney Allotments, AL2 1RG",3.2346638524000002,{"$f":"Calculations!G47","v":0},{"$f":"Calculations!K47","v":0},{"$f":"Calculations!J47","v":0},{"$f":"Calculations!O47","v":0},{"$f":"Calculations!P47","v":1},{"$f":"Calculations!V47","v":0},{"$f":"Calculations!AD47","v":0},{"$f":"Calculations!AG47","v":0},{"$f":"Calculations!AG48","v":0},{"$f":"Calculations!AJ47","v":6.5382393818547452E-3},{"$f":"Calculations!AI47","v":{"$error":"#REF!"}},{"$f":"Calculations!X47","v":0},{"$f":"Calculations!Z47","v":0},{"$f":"Calculations!AT48","v":0},{"$f":"Calculations!AR47","v":0},{"$f":"Calculations!AP47","v":0},{"$f":"Calculations!AS47","v":0},"Employment (any B-class use)","Yes"]
["BUR13","Former Bricket Wood United Reformed Church, AL2 3QR",11.177956865600001,{"$f":"Calculations!G48","v":0},{"$f":"Calculations!K48","v":0},{"$f":"Calculations!J48","v":0},{"$f":"Calculations!O48","v":0},{"$f":"Calculations!P48","v":1},{"$f":"Calculations!V48","v":0},{"$f":"Calculations!AD48","v":0},{"$f":"Calculations!AG48","v":0},{"$f":"Calculations!AG49","v":0},{"$f":"Calculations!AJ48","v":0},{"$f":"Calculations!AI48","v":{"$error":"#REF!"}},{"$f":"Calculations!X48","v":0},{"$f":"Calculations!Z48","v":0},{"$f":"Calculations!AT49","v":0},{"$f":"Calculations!AR48","v":0},{"$f":"Calculations!AP48","v":0},{"$f":"Calculations!AS48","v":0},"Residential","Yes"]
["BUR14","Greenwood United Reformed Church AL2 3HG",37.006762340600005,{"$f":"Calculations!G49","v":0},{"$f":"Calculations!K49","v":0},{"$f":"Calculations!J49","v":0},{"$f":"Calculations!O49","v":0},{"$f":"Calculations!P49","v":1},{"$f":"Calculations!V49","v":0},{"$f":"Calculations!AD49","v":0},{"$f":"Calculations!AG49","v":0},{"$f":"Calculations!AG50","v":0},{"$f":"Calculations!AJ49","v":0},{"$f":"Calculations!AI49","v":{"$error":"#REF!"}},{"$f":"Calculations!X49","v":0},{"$f":"Calculations!Z49","v":0},{"$f":"Calculations!AT50","v":0},{"$f":"Calculations!AR49","v":0},{"$f":"Calculations!AP49","v":0},{"$f":"Calculations!AS49","v":0},"Employment, renewable energy","Yes"]
[{"$f":"Calculations!B51","v":"U1"},"East of Morris Recreation Ground, adjacent to A1081 and White Horse Lane",{"$f":"Calculations!C51","v":1.3203274493000001},{"$f":"Calculations!G51","v":0},{"$f":"Calculations!K51","v":0},{"$f":"Calculations!J51","v":0},{"$f":"Calculations!O51","v":0},{"$f":"Calculations!P51","v":1},{"$f":"Calculations!V51","v":0},{"$f":"Calculations!AD51","v":9.5732570785385697E-3},{"$f":"Calculations!AG51","v":1.5037412355947143E-2},{"$f":"Calculations!AG51","v":1.5037412355947143E-2},{"$f":"Calculations!AJ51","v":1.8560548758561661E-2},{"$f":"Calculations!AI50","v":{"$error":"#REF!"}},{"$f":"Calculations!X51","v":0},{"$f":"Calculations!Z51","v":0},{"$f":"Calculations!AT51","v":0},{"$f":"Calculations!AR51","v":0},{"$f":"Calculations!AP51","v":0},{"$f":"Calculations!AS50","v":0},"Residential","Yes"]
[{"$f":"Calculations!B52","v":"UC48"},"Car Park adj. to 42-46 Adelaide Street, St Albans, AL3 5BH",{"$f":"Calculations!C52","v":5.16856168E-2},{"$f":"Calculations!G52","v":0},{"$f":"Calculations!K52","v":0},{"$f":"Calculations!J52","v":0},{"$f":"Calculations!O52","v":0},{"$f":"Calculations!P52","v":1},{"$f":"Calculations!V52","v":0},{"$f":"Calculations!AD52","v":0},{"$f":"Calculations!AG52","v":0},{"$f":"Calculations!AG52","v":0},{"$f":"Calculations!AJ52","v":0},{"$f":"Calculations!AI51","v":{"$error":"#REF!"}},{"$f":"Calculations!X52","v":0},{"$f":"Calculations!Z52","v":0},{"$f":"Calculations!AT52","v":0},{"$f":"Calculations!AR52","v":0},{"$f":"Calculations!AP52","v":0},{"$f":"Calculations!AS51","v":0},"Residential","Yes"]
["BUR3","50 Victoria Street St Albans, AL1 3HZ",1.6051256294999998,{"$f":"Calculations!G52","v":0},{"$f":"Calculations!K52","v":0},{"$f":"Calculations!J52","v":0},{"$f":"Calculations!O52","v":0},{"$f":"Calculations!P52","v":1},{"$f":"Calculations!V52","v":0},{"$f":"Calculations!AD52","v":0},{"$f":"Calculations!AG52","v":0},{"$f":"Calculations!AG53","v":0},{"$f":"Calculations!AJ52","v":0},{"$f":"Calculations!AI52","v":{"$error":"#REF!"}},{"$f":"Calculations!X52","v":0},{"$f":"Calculations!Z52","v":0},{"$f":"Calculations!AT53","v":0},{"$f":"Calculations!AR52","v":0},{"$f":"Calculations!AP52","v":0},{"$f":"Calculations!AS52","v":0},"Residential","Yes"]
[{"$f":"Calculations!B54","v":"UC19"},"54 Lemsford Road St Albans, AL1 3PR",{"$f":"Calculations!C54","v":0.35317474539999999},{"$f":"Calculations!G54","v":0},{"$f":"Calculations!K54","v":0},{"$f":"Calculations!J54","v":0},{"$f":"Calculations!O54","v":0},{"$f":"Calculations!P54","v":1},{"$f":"Calculations!V54","v":0},{"$f":"Calculations!AD54","v":0},{"$f":"Calculations!AG54","v":1.3707524852936441E-2},{"$f":"Calculations!AG54","v":1.3707524852936441E-2},{"$f":"Calculations!AJ54","v":8.2227665138142697E-2},{"$f":"Calculations!AI53","v":{"$error":"#REF!"}},{"$f":"Calculations!X54","v":0},{"$f":"Calculations!Z54","v":0},{"$f":"Calculations!AT54","v":0},{"$f":"Calculations!AR54","v":0},{"$f":"Calculations!AP54","v":0},{"$f":"Calculations!AS53","v":0},"Residential","Yes"]
["BUR5","104 High Street London Colney, AL2 1QL",28.158515642900003,{"$f":"Calculations!G54","v":0},{"$f":"Calculations!K54","v":0},{"$f":"Calculations!J54","v":0},{"$f":"Calculations!O54","v":0},{"$f":"Calculations!P54","v":1},{"$f":"Calculations!V54","v":0},{"$f":"Calculations!AD54","v":0},{"$f":"Calculations!AG54","v":1.3707524852936441E-2},{"$f":"Calculations!AG55","v":0},{"$f":"Calculations!AJ54","v":8.2227665138142697E-2},{"$f":"Calculations!AI54","v":{"$error":"#REF!"}},{"$f":"Calculations!X54","v":0},{"$f":"Calculations!Z54","v":0},{"$f":"Calculations!AT55","v":0},{"$f":"Calculations!AR54","v":0},{"$f":"Calculations!AP54","v":0},{"$f":"Calculations!AS54","v":0},"Residential and specialist residential. Uses that the site promoter would also consider appropriate include employment, retail, tourism, leisure/recreation, community facility, and renewable energy","Yes"]
["BUR6","18- 20 Catherine Street St Albans, AL3 5BY",33.860648823399998,{"$f":"Calculations!G55","v":0},{"$f":"Calculations!K55","v":0},{"$f":"Calculations!J55","v":0},{"$f":"Calculations!O55","v":0},{"$f":"Calculations!P55","v":1},{"$f":"Calculations!V55","v":0},{"$f":"Calculations!AD55","v":0},{"$f":"Calculations!AG55","v":0},{"$f":"Calculations!AG56","v":0},{"$f":"Calculations!AJ55","v":0},{"$f":"Calculations!AI55","v":{"$error":"#REF!"}},{"$f":"Calculations!X55","v":0},{"$f":"Calculations!Z55","v":0},{"$f":"Calculations!AT56","v":0},{"$f":"Calculations!AR55","v":0},{"$f":"Calculations!AP55","v":0},{"$f":"Calculations!AS55","v":0},"Residential, retail, leisure/recreation, community facility (a new sailing centre to replace the existing. Potential location for Andrew Simpson Sailing Foundation). Other uses promoter would consider are specialist residential and tourism","Yes"]
[{"$f":"Calculations!B57","v":"UC6"},"13-19 Sutton Road & 5-11a Pickford Road St Albans, AL1 5JH",{"$f":"Calculations!C57","v":0.3244836847},{"$f":"Calculations!G57","v":0},{"$f":"Calculations!K57","v":0},{"$f":"Calculations!J57","v":0},{"$f":"Calculations!O57","v":0},{"$f":"Calculations!P57","v":1},{"$f":"Calculations!V57","v":0},{"$f":"Calculations!AD57","v":4.1207874634320556E-3},{"$f":"Calculations!AG57","v":4.3239168751956672E-2},{"$f":"Calculations!AG57","v":4.3239168751956672E-2},{"$f":"Calculations!AJ57","v":0.18599057408940967},{"$f":"Calculations!AI56","v":{"$error":"#REF!"}},{"$f":"Calculations!X57","v":0},{"$f":"Calculations!Z57","v":0},{"$f":"Calculations!AT57","v":0},{"$f":"Calculations!AR57","v":0},{"$f":"Calculations!AP57","v":0},{"$f":"Calculations!AS56","v":0},"Residential","No"]
[{"$f":"Calculations!B58","v":"UC46"},"Garage Blocks adj. to 76 Oakley Road and 151 Grove Road, Harpenden, AL5 1HJ",{"$f":"Calculations!C58","v":0.11725040739999999},{"$f":"Calculations!G58","v":0},{"$f":"Calculations!K58","v":0},{"$f":"Calculations!J58","v":0},{"$f":"Calculations!O58","v":0},{"$f":"Calculations!P58","v":1},{"$f":"Calculations!V58","v":0},{"$f":"Calculations!AD58","v":4.4092651911757874E-2},{"$f":"Calculations!AG58","v":0.11133258714800852},{"$f":"Calculations!AG58","v":0.11133258714800852},{"$f":"Calculations!AJ58","v":0.41311351127979112},{"$f":"Calculations!AI57","v":{"$error":"#REF!"}},{"$f":"Calculations!X58","v":0},{"$f":"Calculations!Z58","v":0},{"$f":"Calculations!AT58","v":0},{"$f":"Calculations!AR58","v":0},{"$f":"Calculations!AP58","v":0},{"$f":"Calculations!AS57","v":0},"Residential","No"]
[{"$f":"Calculations!B59","v":"UC47"},"Crabtree Fields / Land at Waldegrave Park, Harpenden, AL5 5SA",{"$f":"Calculations!C59","v":0.87669037970000008},{"$f":"Calculations!G59","v":0},{"$f":"Calculations!K59","v":0},{"$f":"Calculations!J59","v":0},{"$f":"Calculations!O59","v":0},{"$f":"Calculations!P59","v":1},{"$f":"Calculations!V59","v":0},{"$f":"Calculations!AD59","v":4.6579899752035572E-3},{"$f":"Calculations!AG59","v":3.7203800629318114E-2},{"$f":"Calculations!AG59","v":3.7203800629318114E-2},{"$f":"Calculations!AJ59","v":0.10697611069040455},{"$f":"Calculations!AI58","v":{"$error":"#REF!"}},{"$f":"Calculations!X59","v":0},{"$f":"Calculations!Z59","v":0},{"$f":"Calculations!AT59","v":0},{"$f":"Calculations!AR59","v":0},{"$f":"Calculations!AP59","v":0},{"$f":"Calculations!AS58","v":0},"Residential","No"]
[{"$f":"Calculations!B60","v":"UC40"},"Land Rear of New House Park Shops, St Albans, AL1 1UJ",{"$f":"Calculations!C60","v":0.1180911462},{"$f":"Calculations!G60","v":0},{"$f":"Calculations!K60","v":0},{"$f":"Calculations!J60","v":0},{"$f":"Calculations!O60","v":0},{"$f":"Calculations!P60","v":1},{"$f":"Calculations!V60","v":0},{"$f":"Calculations!AD60","v":0},{"$f":"Calculations!AG60","v":6.0444429829744507E-3},{"$f":"Calculations!AG60","v":6.0444429829744507E-3},{"$f":"Calculations!AJ60","v":0.26630865574577678},{"$f":"Calculations!AI59","v":{"$error":"#REF!"}},{"$f":"Calculations!X60","v":0},{"$f":"Calculations!Z60","v":0},{"$f":"Calculations!AT60","v":0},{"$f":"Calculations!AR60","v":0},{"$f":"Calculations!AP60","v":0},{"$f":"Calculations!AS59","v":0},"Residential","No"]
[{"$f":"Calculations!B61","v":"UC4"},"Car Park to rear of 32-34 Upper Marlborough Road, St Albans, AL1 3 UU",{"$f":"Calculations!C61","v":0.22186474469999998},{"$f":"Calculations!G61","v":0},{"$f":"Calculations!K61","v":0},{"$f":"Calculations!J61","v":0},{"$f":"Calculations!O61","v":0},{"$f":"Calculations!P61","v":1},{"$f":"Calculations!V61","v":0},{"$f":"Calculations!AD61","v":0},{"$f":"Calculations!AG61","v":0},{"$f":"Calculations!AG61","v":0},{"$f":"Calculations!AJ61","v":0},{"$f":"Calculations!AI60","v":{"$error":"#REF!"}},{"$f":"Calculations!X61","v":0},{"$f":"Calculations!Z61","v":0},{"$f":"Calculations!AT61","v":0},{"$f":"Calculations!AR61","v":0},{"$f":"Calculations!AP61","v":0},{"$f":"Calculations!AS60","v":0},"Residential","Yes"]
[{"$f":"Calculations!B62","v":"UC25"},"318 Watford Road, Chiswell Green, AL2 3DP",{"$f":"Calculations!C62","v":0.19299448799999999},{"$f":"Calculations!G62","v":0},{"$f":"Calculations!K62","v":0},{"$f":"Calculations!J62","v":0},{"$f":"Calculations!O62","v":0},{"$f":"Calculations!P62","v":1},{"$f":"Calculations!V62","v":0},{"$f":"Calculations!AD62","v":0},{"$f":"Calculations!AG62","v":0},{"$f":"Calculations!AG62","v":0},{"$f":"Calculations!AJ62","v":0},{"$f":"Calculations!AI61","v":{"$error":"#REF!"}},{"$f":"Calculations!X62","v":0},{"$f":"Calculations!Z62","v":0},{"$f":"Calculations!AT62","v":0},{"$f":"Calculations!AR62","v":0},{"$f":"Calculations!AP62","v":0},{"$f":"Calculations!AS61","v":0},"Residential","Yes"]
[{"$f":"Calculations!B63","v":"UC10"},"Garage Block rear of 109-179 Hughenden Road, St Albans, AL4 9QW",{"$f":"Calculations!C63","v":0.2707832745},{"$f":"Calculations!G63","v":0},{"$f":"Calculations!K63","v":0},{"$f":"Calculations!J63","v":0},{"$f":"Calculations!O63","v":0},{"$f":"Calculations!P63","v":1},{"$f":"Calculations!V63","v":0},{"$f":"Calculations!AD63","v":0},{"$f":"Calculations!AG63","v":0},{"$f":"Calculations!AG63","v":0},{"$f":"Calculations!AJ63","v":0},{"$f":"Calculations!AI62","v":{"$error":"#REF!"}},{"$f":"Calculations!X63","v":0},{"$f":"Calculations!Z63","v":0},{"$f":"Calculations!AT63","v":0},{"$f":"Calculations!AR63","v":0},{"$f":"Calculations!AP63","v":1},{"$f":"Calculations!AS62","v":0},"Residential","No"]
[{"$f":"Calculations!B64","v":"UC12"},"Garage Block Between Hughenden Road and The Ridgeway, St Albans, AL4 9RH",{"$f":"Calculations!C64","v":0.22188063129999999},{"$f":"Calculations!G64","v":0},{"$f":"Calculations!K64","v":0},{"$f":"Calculations!J64","v":0},{"$f":"Calculations!O64","v":0},{"$f":"Calculations!P64","v":1},{"$f":"Calculations!V64","v":0},{"$f":"Calculations!AD64","v":0},{"$f":"Calculations!AG64","v":0},{"$f":"Calculations!AG64","v":0},{"$f":"Calculations!AJ64","v":5.2819662227092292E-4},{"$f":"Calculations!AI63","v":{"$error":"#REF!"}},{"$f":"Calculations!X64","v":0},{"$f":"Calculations!Z64","v":0},{"$f":"Calculations!AT64","v":0},{"$f":"Calculations!AR64","v":0},{"$f":"Calculations!AP64","v":1.0000001131238894},{"$f":"Calculations!AS63","v":1},"Residential","No"]
[{"$f":"Calculations!B65","v":"UC14"},"Car Park to rear of 3 Church Green (Waitrose), Harpenden, AL5 2TJ",{"$f":"Calculations!C65","v":0.33669957030000003},{"$f":"Calculations!G65","v":0},{"$f":"Calculations!K65","v":0},{"$f":"Calculations!J65","v":0},{"$f":"Calculations!O65","v":0},{"$f":"Calculations!P65","v":1},{"$f":"Calculations!V65","v":0},{"$f":"Calculations!AD65","v":2.5906923469572359E-2},{"$f":"Calculations!AG65","v":3.561945413032206E-2},{"$f":"Calculations!AG65","v":3.561945413032206E-2},{"$f":"Calculations!AJ65","v":9.5431927850013046E-2},{"$f":"Calculations!AI64","v":{"$error":"#REF!"}},{"$f":"Calculations!X65","v":0},{"$f":"Calculations!Z65","v":0},{"$f":"Calculations!AT65","v":0},{"$f":"Calculations!AR65","v":0},{"$f":"Calculations!AP65","v":0},{"$f":"Calculations!AS64","v":1.0000001131238894},"Residential","Yes"]
[{"$f":"Calculations!B66","v":"UC7"},"5 Spencer Street, St Albans, AL3 5EH",{"$f":"Calculations!C66","v":0.18590777889999999},{"$f":"Calculations!G66","v":0},{"$f":"Calculations!K66","v":0},{"$f":"Calculations!J66","v":0},{"$f":"Calculations!O66","v":0},{"$f":"Calculations!P66","v":1},{"$f":"Calculations!V66","v":0},{"$f":"Calculations!AD66","v":0},{"$f":"Calculations!AG66","v":0},{"$f":"Calculations!AG66","v":0},{"$f":"Calculations!AJ66","v":0},{"$f":"Calculations!AI65","v":{"$error":"#REF!"}},{"$f":"Calculations!X66","v":0},{"$f":"Calculations!Z66","v":0},{"$f":"Calculations!AT66","v":0},{"$f":"Calculations!AR66","v":0},{"$f":"Calculations!AP66","v":0},{"$f":"Calculations!AS65","v":0},"Residential","Yes"]
[{"$f":"Calculations!B67","v":"UC51"},"Garage Block to south of Abbots Park Abbots Park, St Albans, AL1 1TW",{"$f":"Calculations!C67","v":5.6391443499999999E-2},{"$f":"Calculations!G67","v":0},{"$f":"Calculations!K67","v":0},{"$f":"Calculations!J67","v":0},{"$f":"Calculations!O67","v":0},{"$f":"Calculations!P67","v":1},{"$f":"Calculations!V67","v":0},{"$f":"Calculations!AD67","v":0},{"$f":"Calculations!AG67","v":0},{"$f":"Calculations!AG67","v":0},{"$f":"Calculations!AJ67","v":0.42148301630193241},{"$f":"Calculations!AI66","v":{"$error":"#REF!"}},{"$f":"Calculations!X67","v":0},{"$f":"Calculations!Z67","v":0},{"$f":"Calculations!AT67","v":0},{"$f":"Calculations!AR67","v":0},{"$f":"Calculations!AP67","v":0},{"$f":"Calculations!AS66","v":0},"Residential",{"$f":"IF(AND($H76=1,I76=0,O76=0,Q76=0,$M76<0.1,$R76<0.1,$S76<0.25),\"Yes\",\"No\")","v":"No"}]
[{"$f":"Calculations!B68","v":"UC27"},"Berkeley House, Barnet Road, London Colney, AL2 1BG",{"$f":"Calculations!C68","v":0.14452927729999998},{"$f":"Calculations!G68","v":0},{"$f":"Calculations!K68","v":0},{"$f":"Calculations!J68","v":0},{"$f":"Calculations!O68","v":0.20757040068586852},{"$f":"Calculations!P68","v":0.79242959931413148},{"$f":"Calculations!V68","v":0},{"$f":"Calculations!AD68","v":0},{"$f":"Calculations!AG68","v":0},{"$f":"Calculations!AG68","v":0},{"$f":"Calculations!AJ68","v":1.324783487310775E-5},{"$f":"Calculations!AI67","v":{"$error":"#REF!"}},{"$f":"Calculations!X68","v":0.19666327010686574},{"$f":"Calculations!Z68","v":0},{"$f":"Calculations!AT68","v":0},{"$f":"Calculations!AR68","v":0},{"$f":"Calculations!AP68","v":0},{"$f":"Calculations!AS67","v":0},"Residential","No"]
[{"$f":"Calculations!B69","v":"UC39"},"Garage Block to east of 8 Heath Close, Harpenden, AL5 1QN",{"$f":"Calculations!C69","v":0.12762842330000002},{"$f":"Calculations!G69","v":0},{"$f":"Calculations!K69","v":0},{"$f":"Calculations!J69","v":0},{"$f":"Calculations!O69","v":0},{"$f":"Calculations!P69","v":1},{"$f":"Calculations!V69","v":0},{"$f":"Calculations!AD69","v":0.12617294865539563},{"$f":"Calculations!AG69","v":0.32872404528090726},{"$f":"Calculations!AG69","v":0.32872404528090726},{"$f":"Calculations!AJ69","v":0.95204293337062629},{"$f":"Calculations!AI68","v":{"$error":"#REF!"}},{"$f":"Calculations!X69","v":0},{"$f":"Calculations!Z69","v":0},{"$f":"Calculations!AT69","v":0},{"$f":"Calculations!AR69","v":0},{"$f":"Calculations!AP69","v":0},{"$f":"Calculations!AS68","v":0},"Residential","No"]
[{"$f":"Calculations!B70","v":"UC16"},"Garage Block west of Thirlestane, St Albans, AL1 3PE",{"$f":"Calculations!C70","v":0.1774691924},{"$f":"Calculations!G70","v":0},{"$f":"Calculations!K70","v":0},{"$f":"Calculations!J70","v":0},{"$f":"Calculations!O70","v":0},{"$f":"Calculations!P70","v":1},{"$f":"Calculations!V70","v":0},{"$f":"Calculations!AD70","v":0},{"$f":"Calculations!AG70","v":0},{"$f":"Calculations!AG70","v":0},{"$f":"Calculations!AJ70","v":8.159148190274855E-2},{"$f":"Calculations!AI69","v":{"$error":"#REF!"}},{"$f":"Calculations!X70","v":0},{"$f":"Calculations!Z70","v":0},{"$f":"Calculations!AT70","v":0},{"$f":"Calculations!AR70","v":0},{"$f":"Calculations!AP70","v":0},{"$f":"Calculations!AS69","v":0},"Residential","Yes"]
[{"$f":"Calculations!B71","v":"UC52"},"Garage Block off Tallents Crescent, Harpenden, AL5 5BS",{"$f":"Calculations!C71","v":9.5154796999999999E-2},{"$f":"Calculations!G71","v":0},{"$f":"Calculations!K71","v":0},{"$f":"Calculations!J71","v":0},{"$f":"Calculations!O71","v":0},{"$f":"Calculations!P71","v":1},{"$f":"Calculations!V71","v":0},{"$f":"Calculations!AD71","v":0},{"$f":"Calculations!AG71","v":0},{"$f":"Calculations!AG71","v":0},{"$f":"Calculations!AJ71","v":0},{"$f":"Calculations!AI70","v":{"$error":"#REF!"}},{"$f":"Calculations!X71","v":0},{"$f":"Calculations!Z71","v":0},{"$f":"Calculations!AT71","v":0},{"$f":"Calculations!AR71","v":0},{"$f":"Calculations!AP71","v":0},{"$f":"Calculations!AS70","v":0},"Residential","Yes"]
[{"$f":"Calculations!B72","v":"UC43"},"Garage block to west of 32-46 Riverside Road, St Albans, AL1 1SD",{"$f":"Calculations!C72","v":6.0495009100000004E-2},{"$f":"Calculations!G72","v":0},{"$f":"Calculations!K72","v":0},{"$f":"Calculations!J72","v":0},{"$f":"Calculations!O72","v":0},{"$f":"Calculations!P72","v":1},{"$f":"Calculations!V72","v":0},{"$f":"Calculations!AD72","v":0},{"$f":"Calculations!AG72","v":0.52018702316386622},{"$f":"Calculations!AG72","v":0.52018702316386622},{"$f":"Calculations!AJ72","v":0.88697569433045986},{"$f":"Calculations!AI71","v":{"$error":"#REF!"}},{"$f":"Calculations!X72","v":0},{"$f":"Calculations!Z72","v":0},{"$f":"Calculations!AT72","v":0},{"$f":"Calculations!AR72","v":0},{"$f":"Calculations!AP72","v":0},{"$f":"Calculations!AS71","v":0},"Residential","No"]
[{"$f":"Calculations!B73","v":"UC18"},"Garage block to front of 94-142 Riverside Road, Riverside Road, St Albans, AL1 1SE",{"$f":"Calculations!C73","v":0.14447098110000001},{"$f":"Calculations!G73","v":0},{"$f":"Calculations!K73","v":0},{"$f":"Calculations!J73","v":0},{"$f":"Calculations!O73","v":0},{"$f":"Calculations!P73","v":1},{"$f":"Calculations!V73","v":0},{"$f":"Calculations!AD73","v":0},{"$f":"Calculations!AG73","v":0},{"$f":"Calculations!AG73","v":0},{"$f":"Calculations!AJ73","v":0},{"$f":"Calculations!AI72","v":{"$error":"#REF!"}},{"$f":"Calculations!X73","v":0},{"$f":"Calculations!Z73","v":0},{"$f":"Calculations!AT73","v":0},{"$f":"Calculations!AR73","v":0},{"$f":"Calculations!AP73","v":0},{"$f":"Calculations!AS72","v":0},"Residential","Yes"]
[{"$f":"Calculations!B74","v":"UC38"},"Garage block to rear of 27-32 St Pauls Place, St Pauls Place, St Albans, AL1 4JW",{"$f":"Calculations!C74","v":0.12287622500000001},{"$f":"Calculations!G74","v":0},{"$f":"Calculations!K74","v":0},{"$f":"Calculations!J74","v":0},{"$f":"Calculations!O74","v":0},{"$f":"Calculations!P74","v":1},{"$f":"Calculations!V74","v":0},{"$f":"Calculations!AD74","v":0},{"$f":"Calculations!AG74","v":0},{"$f":"Calculations!AG74","v":0},{"$f":"Calculations!AJ74","v":3.4610023216452165E-3},{"$f":"Calculations!AI73","v":{"$error":"#REF!"}},{"$f":"Calculations!X74","v":0},{"$f":"Calculations!Z74","v":0},{"$f":"Calculations!AT74","v":0},{"$f":"Calculations!AR74","v":0},{"$f":"Calculations!AP74","v":0},{"$f":"Calculations!AS73","v":0},"Residential","Yes"]
[{"$f":"Calculations!B75","v":"UC44"},"Garage Block off Millford Hill, Harpenden, AL5 5BN",{"$f":"Calculations!C75","v":7.417020240000001E-2},{"$f":"Calculations!G75","v":0},{"$f":"Calculations!K75","v":0},{"$f":"Calculations!J75","v":0},{"$f":"Calculations!O75","v":0},{"$f":"Calculations!P75","v":1},{"$f":"Calculations!V75","v":0},{"$f":"Calculations!AD75","v":0},{"$f":"Calculations!AG75","v":0},{"$f":"Calculations!AG75","v":0},{"$f":"Calculations!AJ75","v":0},{"$f":"Calculations!AI74","v":{"$error":"#REF!"}},{"$f":"Calculations!X75","v":0},{"$f":"Calculations!Z75","v":0},{"$f":"Calculations!AT75","v":0},{"$f":"Calculations!AR75","v":0},{"$f":"Calculations!AP75","v":0},{"$f":"Calculations!AS74","v":0},"Residential","Yes"]
[{"$f":"Calculations!B76","v":"UC23"},"Garage Site adj. Verulam House, Verulam Road, St Albans, AL3 5EN",{"$f":"Calculations!C76","v":0.12881121840000001},{"$f":"Calculations!G76","v":0},{"$f":"Calculations!K76","v":0},{"$f":"Calculations!J76","v":0},{"$f":"Calculations!O76","v":0},{"$f":"Calculations!P76","v":1},{"$f":"Calculations!V76","v":0},{"$f":"Calculations!AD76","v":0},{"$f":"Calculations!AG76","v":5.1649460991357247E-2},{"$f":"Calculations!AG76","v":5.1649460991357247E-2},{"$f":"Calculations!AJ76","v":0.30098874524736269},{"$f":"Calculations!AI75","v":{"$error":"#REF!"}},{"$f":"Calculations!X76","v":0},{"$f":"Calculations!Z76","v":0},{"$f":"Calculations!AT76","v":0},{"$f":"Calculations!AR76","v":0},{"$f":"Calculations!AP76","v":0},{"$f":"Calculations!AS75","v":0},"Residential","No"]
[{"$f":"Calculations!B77","v":"UC17"},"Garage Block off Cotlandswick, London Colney, AL2 1ED",{"$f":"Calculations!C77","v":0.11367664070000001},{"$f":"Calculations!G77","v":0},{"$f":"Calculations!K77","v":0},{"$f":"Calculations!J77","v":0},{"$f":"Calculations!O77","v":0},{"$f":"Calculations!P77","v":1},{"$f":"Calculations!V77","v":0},{"$f":"Calculations!AD77","v":0},{"$f":"Calculations!AG77","v":9.8471818229934713E-2},{"$f":"Calculations!AG77","v":9.8471818229934713E-2},{"$f":"Calculations!AJ77","v":0.57500406413751448},{"$f":"Calculations!AI76","v":{"$error":"#REF!"}},{"$f":"Calculations!X77","v":0},{"$f":"Calculations!Z77","v":0},{"$f":"Calculations!AT77","v":0},{"$f":"Calculations!AR77","v":0},{"$f":"Calculations!AP77","v":0.76826551490450568},{"$f":"Calculations!AS76","v":0},"Residential","No"]
[{"$f":"Calculations!B78","v":"UC31"},"Garages off Creighton Avenue, St Albans, AL1 2LZ",{"$f":"Calculations!C78","v":0.1398521539},{"$f":"Calculations!G78","v":0},{"$f":"Calculations!K78","v":0},{"$f":"Calculations!J78","v":0},{"$f":"Calculations!O78","v":0},{"$f":"Calculations!P78","v":1},{"$f":"Calculations!V78","v":0},{"$f":"Calculations!AD78","v":0},{"$f":"Calculations!AG78","v":0.14300816571120398},{"$f":"Calculations!AG78","v":0.14300816571120398},{"$f":"Calculations!AJ78","v":0.36772800179232706},{"$f":"Calculations!AI77","v":{"$error":"#REF!"}},{"$f":"Calculations!X78","v":0},{"$f":"Calculations!Z78","v":0},{"$f":"Calculations!AT78","v":0},{"$f":"Calculations!AR78","v":0},{"$f":"Calculations!AP78","v":0},{"$f":"Calculations!AS77","v":0.76826551490450568},"Residential","No"]
[{"$f":"Calculations!B79","v":"UC45"},"Garages off Watling View (West), St Albans, AL1 2PA",{"$f":"Calculations!C79","v":0.1074331982},{"$f":"Calculations!G79","v":0},{"$f":"Calculations!K79","v":0},{"$f":"Calculations!J79","v":0},{"$f":"Calculations!O79","v":0},{"$f":"Calculations!P79","v":1},{"$f":"Calculations!V79","v":0},{"$f":"Calculations!AD79","v":0},{"$f":"Calculations!AG79","v":0},{"$f":"Calculations!AG79","v":0},{"$f":"Calculations!AJ79","v":0.28187781809887513},{"$f":"Calculations!AI78","v":{"$error":"#REF!"}},{"$f":"Calculations!X79","v":0},{"$f":"Calculations!Z79","v":0},{"$f":"Calculations!AT79","v":0},{"$f":"Calculations!AR79","v":0},{"$f":"Calculations!AP79","v":0},{"$f":"Calculations!AS78","v":0},"Residential","No"]
[{"$f":"Calculations!B80","v":"UC30"},"Garages Between Abbotts Avenue West and Abbey Line, St Albans, AL1 2JH",{"$f":"Calculations!C80","v":0.1443696475},{"$f":"Calculations!G80","v":0},{"$f":"Calculations!K80","v":0},{"$f":"Calculations!J80","v":0},{"$f":"Calculations!O80","v":0},{"$f":"Calculations!P80","v":1},{"$f":"Calculations!V80","v":0},{"$f":"Calculations!AD80","v":0},{"$f":"Calculations!AG80","v":0},{"$f":"Calculations!AG80","v":0},{"$f":"Calculations!AJ80","v":4.0819758183589107E-2},{"$f":"Calculations!AI79","v":{"$error":"#REF!"}},{"$f":"Calculations!X80","v":0},{"$f":"Calculations!Z80","v":0},{"$f":"Calculations!AT80","v":0},{"$f":"Calculations!AR80","v":0},{"$f":"Calculations!AP80","v":0},{"$f":"Calculations!AS79","v":0},"Residential","Yes"]
[{"$f":"Calculations!B81","v":"UC42"},"Garages off Thirlmere Drive, St Albans, AL1 5QS",{"$f":"Calculations!C81","v":0.13766452430000001},{"$f":"Calculations!G81","v":0},{"$f":"Calculations!K81","v":0},{"$f":"Calculations!J81","v":0},{"$f":"Calculations!O81","v":0},{"$f":"Calculations!P81","v":1},{"$f":"Calculations!V81","v":0},{"$f":"Calculations!AD81","v":0},{"$f":"Calculations!AG81","v":0},{"$f":"Calculations!AG81","v":0},{"$f":"Calculations!AJ81","v":6.3629174215655204E-3},{"$f":"Calculations!AI80","v":{"$error":"#REF!"}},{"$f":"Calculations!X81","v":0},{"$f":"Calculations!Z81","v":0},{"$f":"Calculations!AT81","v":0},{"$f":"Calculations!AR81","v":0},{"$f":"Calculations!AP81","v":0},{"$f":"Calculations!AS80","v":0},"Residential","Yes"]
[{"$f":"Calculations!B82","v":"UC29"},"Garage Block off Noke Shot, Harpenden, AL5 5HS",{"$f":"Calculations!C82","v":0.16106342509999999},{"$f":"Calculations!G82","v":0},{"$f":"Calculations!K82","v":0},{"$f":"Calculations!J82","v":0},{"$f":"Calculations!O82","v":0},{"$f":"Calculations!P82","v":1},{"$f":"Calculations!V82","v":0},{"$f":"Calculations!AD82","v":0},{"$f":"Calculations!AG82","v":0},{"$f":"Calculations!AG82","v":0},{"$f":"Calculations!AJ82","v":0},{"$f":"Calculations!AI81","v":{"$error":"#REF!"}},{"$f":"Calculations!X82","v":0},{"$f":"Calculations!Z82","v":0},{"$f":"Calculations!AT82","v":0},{"$f":"Calculations!AR82","v":0},{"$f":"Calculations!AP82","v":0},{"$f":"Calculations!AS81","v":0},"Residential","Yes"]
[{"$f":"Calculations!B83","v":"UC33"},"Land Rear of 53 Snatchup, Redbourn, AL3 7HF",{"$f":"Calculations!C83","v":0.1641322395},{"$f":"Calculations!G83","v":0},{"$f":"Calculations!K83","v":0},{"$f":"Calculations!J83","v":0},{"$f":"Calculations!O83","v":0},{"$f":"Calculations!P83","v":1},{"$f":"Calculations!V83","v":0},{"$f":"Calculations!AD83","v":0},{"$f":"Calculations!AG83","v":0},{"$f":"Calculations!AG83","v":0},{"$f":"Calculations!AJ83","v":2.6436524678017325E-3},{"$f":"Calculations!AI82","v":{"$error":"#REF!"}},{"$f":"Calculations!X83","v":0},{"$f":"Calculations!Z83","v":0},{"$f":"Calculations!AT83","v":0},{"$f":"Calculations!AR83","v":0},{"$f":"Calculations!AP83","v":0},{"$f":"Calculations!AS82","v":0},"Residential","Yes"]
[{"$f":"Calculations!B84","v":"UC26"},"Garage Block to Malvern Close, St Albans, AL4 9SZ",{"$f":"Calculations!C84","v":0.132368438},{"$f":"Calculations!G84","v":0},{"$f":"Calculations!K84","v":0},{"$f":"Calculations!J84","v":0},{"$f":"Calculations!O84","v":0},{"$f":"Calculations!P84","v":1},{"$f":"Calculations!V84","v":0},{"$f":"Calculations!AD84","v":0},{"$f":"Calculations!AG84","v":0},{"$f":"Calculations!AG84","v":0},{"$f":"Calculations!AJ84","v":0},{"$f":"Calculations!AI83","v":{"$error":"#REF!"}},{"$f":"Calculations!X84","v":0},{"$f":"Calculations!Z84","v":0},{"$f":"Calculations!AT84","v":0},{"$f":"Calculations!AR84","v":0},{"$f":"Calculations!AP84","v":1},{"$f":"Calculations!AS83","v":0},"Residential","No"]
[{"$f":"Calculations!B85","v":"UC21"},"Garages off Chapel Place, St Albans, AL1 2JZ",{"$f":"Calculations!C85","v":0.22822260030000002},{"$f":"Calculations!G85","v":0},{"$f":"Calculations!K85","v":0},{"$f":"Calculations!J85","v":0},{"$f":"Calculations!O85","v":0},{"$f":"Calculations!P85","v":1},{"$f":"Calculations!V85","v":0},{"$f":"Calculations!AD85","v":0},{"$f":"Calculations!AG85","v":0},{"$f":"Calculations!AG85","v":0},{"$f":"Calculations!AJ85","v":2.2181345288966106E-2},{"$f":"Calculations!AI84","v":{"$error":"#REF!"}},{"$f":"Calculations!X85","v":0},{"$f":"Calculations!Z85","v":0},{"$f":"Calculations!AT85","v":0},{"$f":"Calculations!AR85","v":0},{"$f":"Calculations!AP85","v":0},{"$f":"Calculations!AS84","v":1},"Residential","Yes"]
[{"$f":"Calculations!B86","v":"UC41"},"Garages at Grindcobbe, St Albans, AL1 2ED",{"$f":"Calculations!C86","v":0.1204110515},{"$f":"Calculations!G86","v":0},{"$f":"Calculations!K86","v":0},{"$f":"Calculations!J86","v":0},{"$f":"Calculations!O86","v":0},{"$f":"Calculations!P86","v":1},{"$f":"Calculations!V86","v":0},{"$f":"Calculations!AD86","v":0},{"$f":"Calculations!AG86","v":5.4502261364273524E-2},{"$f":"Calculations!AG86","v":5.4502261364273524E-2},{"$f":"Calculations!AJ86","v":0.15027800500521332},{"$f":"Calculations!AI85","v":{"$error":"#REF!"}},{"$f":"Calculations!X86","v":0},{"$f":"Calculations!Z86","v":0},{"$f":"Calculations!AT86","v":0},{"$f":"Calculations!AR86","v":0},{"$f":"Calculations!AP86","v":0},{"$f":"Calculations!AS85","v":0},"Residential","No"]
[{"$f":"Calculations!B87","v":"UC34"},"Garages Rear of Hill End Lane (South), St Albans, AL4 0AE",{"$f":"Calculations!C87","v":0.18585152639999999},{"$f":"Calculations!G87","v":0},{"$f":"Calculations!K87","v":0},{"$f":"Calculations!J87","v":0},{"$f":"Calculations!O87","v":0},{"$f":"Calculations!P87","v":1},{"$f":"Calculations!V87","v":0},{"$f":"Calculations!AD87","v":0},{"$f":"Calculations!AG87","v":0},{"$f":"Calculations!AG87","v":0},{"$f":"Calculations!AJ87","v":9.3822659075023879E-2},{"$f":"Calculations!AI86","v":{"$error":"#REF!"}},{"$f":"Calculations!X87","v":0},{"$f":"Calculations!Z87","v":0},{"$f":"Calculations!AT87","v":0},{"$f":"Calculations!AR87","v":0},{"$f":"Calculations!AP87","v":0},{"$f":"Calculations!AS86","v":0},"Residential","Yes"]
[{"$f":"Calculations!B88","v":"UC24"},"Garages Rear of Hill End Lane (North), St Albans, AL4 0AE",{"$f":"Calculations!C88","v":0.20767035420000002},{"$f":"Calculations!G88","v":0},{"$f":"Calculations!K88","v":0},{"$f":"Calculations!J88","v":0},{"$f":"Calculations!O88","v":0},{"$f":"Calculations!P88","v":1},{"$f":"Calculations!V88","v":0},{"$f":"Calculations!AD88","v":0.28980584990979896},{"$f":"Calculations!AG88","v":0.40991563686561083},{"$f":"Calculations!AG88","v":0.40991563686561083},{"$f":"Calculations!AJ88","v":0.61224591728461553},{"$f":"Calculations!AI87","v":{"$error":"#REF!"}},{"$f":"Calculations!X88","v":0},{"$f":"Calculations!Z88","v":0},{"$f":"Calculations!AT88","v":0},{"$f":"Calculations!AR88","v":0},{"$f":"Calculations!AP88","v":0},{"$f":"Calculations!AS87","v":0},"Residential","No"]
[{"$f":"Calculations!B89","v":"UC31"},"Garages rear of Tudor Road, St Albans, AL3 6AY",{"$f":"Calculations!C89","v":0.17145767279999999},{"$f":"Calculations!G89","v":0},{"$f":"Calculations!K89","v":0},{"$f":"Calculations!J89","v":0},{"$f":"Calculations!O89","v":0},{"$f":"Calculations!P89","v":1},{"$f":"Calculations!V89","v":0},{"$f":"Calculations!AD89","v":0},{"$f":"Calculations!AG89","v":0},{"$f":"Calculations!AG89","v":0},{"$f":"Calculations!AJ89","v":0},{"$f":"Calculations!AI88","v":{"$error":"#REF!"}},{"$f":"Calculations!X89","v":0},{"$f":"Calculations!Z89","v":0},{"$f":"Calculations!AT89","v":0},{"$f":"Calculations!AR89","v":0},{"$f":"Calculations!AP89","v":0},{"$f":"Calculations!AS88","v":0},"Residential","Yes"]
[{"$f":"Calculations!B90","v":"UC36"},"Garages off Park Street Lane, Park Street, AL2 2ND",{"$f":"Calculations!C90","v":0.1286785731},{"$f":"Calculations!G90","v":0},{"$f":"Calculations!K90","v":0},{"$f":"Calculations!J90","v":0},{"$f":"Calculations!O90","v":0},{"$f":"Calculations!P90","v":1},{"$f":"Calculations!V90","v":0},{"$f":"Calculations!AD90","v":0},{"$f":"Calculations!AG90","v":0.19987538236076385},{"$f":"Calculations!AG90","v":0.19987538236076385},{"$f":"Calculations!AJ90","v":0.43259110867464223},{"$f":"Calculations!AI89","v":{"$error":"#REF!"}},{"$f":"Calculations!X90","v":0},{"$f":"Calculations!Z90","v":0},{"$f":"Calculations!AT90","v":0},{"$f":"Calculations!AR90","v":0},{"$f":"Calculations!AP90","v":0},{"$f":"Calculations!AS89","v":0},"Residential","No"]
[{"$f":"Calculations!B91","v":"UC49"},"Garage Block rear of 18-30 Furse Avenue, St Albans, AL4 9NE",{"$f":"Calculations!C91","v":0.11884360429999999},{"$f":"Calculations!G91","v":0},{"$f":"Calculations!K91","v":0},{"$f":"Calculations!J91","v":0},{"$f":"Calculations!O91","v":0},{"$f":"Calculations!P91","v":1},{"$f":"Calculations!V91","v":0},{"$f":"Calculations!AD91","v":0},{"$f":"Calculations!AG91","v":0},{"$f":"Calculations!AG91","v":0},{"$f":"Calculations!AJ91","v":9.7486272553246706E-4},{"$f":"Calculations!AI90","v":{"$error":"#REF!"}},{"$f":"Calculations!X91","v":0},{"$f":"Calculations!Z91","v":0},{"$f":"Calculations!AT91","v":0},{"$f":"Calculations!AR91","v":0},{"$f":"Calculations!AP91","v":1},{"$f":"Calculations!AS90","v":0},"Residential","No"]
[{"$f":"Calculations!B92","v":"UC37"},"Garages off Watling View (East), St Albans, AL1 2NT",{"$f":"Calculations!C92","v":0.13783710909999999},{"$f":"Calculations!G92","v":0},{"$f":"Calculations!K92","v":0},{"$f":"Calculations!J92","v":0},{"$f":"Calculations!O92","v":0},{"$f":"Calculations!P92","v":1},{"$f":"Calculations!V92","v":0},{"$f":"Calculations!AD92","v":0},{"$f":"Calculations!AG92","v":0},{"$f":"Calculations!AG92","v":0},{"$f":"Calculations!AJ92","v":0.15122260134516999},{"$f":"Calculations!AI91","v":{"$error":"#REF!"}},{"$f":"Calculations!X92","v":0},{"$f":"Calculations!Z92","v":0},{"$f":"Calculations!AT92","v":0},{"$f":"Calculations!AR92","v":0},{"$f":"Calculations!AP92","v":0},{"$f":"Calculations!AS91","v":1},"Residential","No"]
[{"$f":"Calculations!B93","v":"UC22"},"Car Park to rear of 77-101 Hatfield Road, Hatfield Road, St Albans, AL1 4JL",{"$f":"Calculations!C93","v":0.1010167572},{"$f":"Calculations!G93","v":0},{"$f":"Calculations!K93","v":0},{"$f":"Calculations!J93","v":0},{"$f":"Calculations!O93","v":0},{"$f":"Calculations!P93","v":1},{"$f":"Calculations!V93","v":0},{"$f":"Calculations!AD93","v":0},{"$f":"Calculations!AG93","v":0},{"$f":"Calculations!AG93","v":0},{"$f":"Calculations!AJ93","v":8.1185639168389388E-4},{"$f":"Calculations!AI92","v":{"$error":"#REF!"}},{"$f":"Calculations!X93","v":0},{"$f":"Calculations!Z93","v":0},{"$f":"Calculations!AT93","v":0},{"$f":"Calculations!AR93","v":0},{"$f":"Calculations!AP93","v":0},{"$f":"Calculations!AS92","v":0},"Residential","Yes"]
[{"$f":"Calculations!B94","v":"UC15"},"Bowers Way East Car Park Bowers Way, Harpenden, AL5 4EQ",{"$f":"Calculations!C94","v":0.41392472520000001},{"$f":"Calculations!G94","v":0},{"$f":"Calculations!K94","v":0},{"$f":"Calculations!J94","v":0},{"$f":"Calculations!O94","v":0},{"$f":"Calculations!P94","v":1},{"$f":"Calculations!V94","v":0},{"$f":"Calculations!AD94","v":0},{"$f":"Calculations!AG94","v":0},{"$f":"Calculations!AG94","v":0},{"$f":"Calculations!AJ94","v":0},{"$f":"Calculations!AI93","v":{"$error":"#REF!"}},{"$f":"Calculations!X94","v":0},{"$f":"Calculations!Z94","v":0},{"$f":"Calculations!AT94","v":0},{"$f":"Calculations!AR94","v":0},{"$f":"Calculations!AP94","v":0},{"$f":"Calculations!AS93","v":0},"Residential","Yes"]
[{"$f":"Calculations!B95","v":"UC2"},"Civic Close Car Park Bricket Road, St Albans, AL1 3JX",{"$f":"Calculations!C95","v":0.45338594320000003},{"$f":"Calculations!G95","v":0},{"$f":"Calculations!K95","v":0},{"$f":"Calculations!J95","v":0},{"$f":"Calculations!O95","v":0},{"$f":"Calculations!P95","v":1},{"$f":"Calculations!V95","v":0},{"$f":"Calculations!AD95","v":0},{"$f":"Calculations!AG95","v":0},{"$f":"Calculations!AG95","v":0},{"$f":"Calculations!AJ95","v":2.1204511176825563E-2},{"$f":"Calculations!AI94","v":{"$error":"#REF!"}},{"$f":"Calculations!X95","v":0},{"$f":"Calculations!Z95","v":0},{"$f":"Calculations!AT95","v":0},{"$f":"Calculations!AR95","v":0},{"$f":"Calculations!AP95","v":0},{"$f":"Calculations!AS94","v":0},"Residential","Yes"]
[{"$f":"Calculations!B96","v":"UC35"},"Market Depot, Drovers Way, St Albans, AL3 5FA",{"$f":"Calculations!C96","v":7.2749196099999996E-2},{"$f":"Calculations!G96","v":0},{"$f":"Calculations!K96","v":0},{"$f":"Calculations!J96","v":0},{"$f":"Calculations!O96","v":0},{"$f":"Calculations!P96","v":1},{"$f":"Calculations!V96","v":0},{"$f":"Calculations!AD96","v":2.8019691065699629E-4},{"$f":"Calculations!AG96","v":2.8019691065699629E-4},{"$f":"Calculations!AG96","v":2.8019691065699629E-4},{"$f":"Calculations!AJ96","v":4.2642230654147397E-3},{"$f":"Calculations!AI95","v":{"$error":"#REF!"}},{"$f":"Calculations!X96","v":0},{"$f":"Calculations!Z96","v":0},{"$f":"Calculations!AT96","v":0},{"$f":"Calculations!AR96","v":0},{"$f":"Calculations!AP96","v":0},{"$f":"Calculations!AS95","v":0},"Residential","Yes"]
[{"$f":"Calculations!B97","v":"UC9"},"Keyfield Terrace Car Park, Keyfield Terrace, St Albans, AL1 1PD",{"$f":"Calculations!C97","v":0.24795260990000001},{"$f":"Calculations!G97","v":0},{"$f":"Calculations!K97","v":0},{"$f":"Calculations!J97","v":0},{"$f":"Calculations!O97","v":0},{"$f":"Calculations!P97","v":1},{"$f":"Calculations!V97","v":0},{"$f":"Calculations!AD97","v":0},{"$f":"Calculations!AG97","v":2.7770467924403161E-4},{"$f":"Calculations!AG97","v":2.7770467924403161E-4},{"$f":"Calculations!AJ97","v":1.8826843572578987E-2},{"$f":"Calculations!AI96","v":{"$error":"#REF!"}},{"$f":"Calculations!X97","v":0},{"$f":"Calculations!Z97","v":0},{"$f":"Calculations!AT97","v":0},{"$f":"Calculations!AR97","v":0},{"$f":"Calculations!AP97","v":0},{"$f":"Calculations!AS96","v":0},"Residential","Yes"]
[{"$f":"Calculations!B98","v":"UC8"},"Public Hall, 6 Southdown Road, Harpenden, AL5 1TE",{"$f":"Calculations!C98","v":0.263656473},{"$f":"Calculations!G98","v":0},{"$f":"Calculations!K98","v":0},{"$f":"Calculations!J98","v":0},{"$f":"Calculations!O98","v":0},{"$f":"Calculations!P98","v":1},{"$f":"Calculations!V98","v":0},{"$f":"Calculations!AD98","v":7.1658409843023282E-2},{"$f":"Calculations!AG98","v":0.16236676313272233},{"$f":"Calculations!AG98","v":0.16236676313272233},{"$f":"Calculations!AJ98","v":0.38849960304217523},{"$f":"Calculations!AI97","v":{"$error":"#REF!"}},{"$f":"Calculations!X98","v":0},{"$f":"Calculations!Z98","v":0},{"$f":"Calculations!AT98","v":0},{"$f":"Calculations!AR98","v":0},{"$f":"Calculations!AP98","v":0},{"$f":"Calculations!AS97","v":0},"Residential","No"]
[{"$f":"Calculations!B99","v":"UC13"},"Car Park adjacent to Verulam House, Verulam Road, St Albans, AL3 5EN",{"$f":"Calculations!C99","v":0.22167439359999999},{"$f":"Calculations!G99","v":0},{"$f":"Calculations!K99","v":0},{"$f":"Calculations!J99","v":0},{"$f":"Calculations!O99","v":0},{"$f":"Calculations!P99","v":1},{"$f":"Calculations!V99","v":0},{"$f":"Calculations!AD99","v":0},{"$f":"Calculations!AG99","v":0},{"$f":"Calculations!AG99","v":0},{"$f":"Calculations!AJ99","v":7.2468260041740784E-2},{"$f":"Calculations!AI98","v":{"$error":"#REF!"}},{"$f":"Calculations!X99","v":0},{"$f":"Calculations!Z99","v":0},{"$f":"Calculations!AT99","v":0},{"$f":"Calculations!AR99","v":0},{"$f":"Calculations!AP99","v":0},{"$f":"Calculations!AS98","v":0},"Residential","Yes"]
[{"$f":"Calculations!B100","v":"UC3"},"London Road Car Park, London Road, St Albans, AL1 1NG",{"$f":"Calculations!C100","v":0.57283074189999994},{"$f":"Calculations!G100","v":0},{"$f":"Calculations!K100","v":0},{"$f":"Calculations!J100","v":0},{"$f":"Calculations!O100","v":0},{"$f":"Calculations!P100","v":1},{"$f":"Calculations!V100","v":0},{"$f":"Calculations!AD100","v":0},{"$f":"Calculations!AG100","v":0},{"$f":"Calculations!AG100","v":0},{"$f":"Calculations!AJ100","v":0},{"$f":"Calculations!AI99","v":{"$error":"#REF!"}},{"$f":"Calculations!X100","v":0},{"$f":"Calculations!Z100","v":0},{"$f":"Calculations!AT100","v":0},{"$f":"Calculations!AR100","v":0},{"$f":"Calculations!AP100","v":0},{"$f":"Calculations!AS99","v":0},"Residential","Yes"]
[{"$f":"Calculations!B101","v":"UC10"},"Southview Car Park, Lower Luton Road, Harpenden, AL5 5AW",{"$f":"Calculations!C101","v":9.71849875E-2},{"$f":"Calculations!G101","v":0},{"$f":"Calculations!K101","v":0},{"$f":"Calculations!J101","v":0},{"$f":"Calculations!O101","v":0},{"$f":"Calculations!P101","v":1},{"$f":"Calculations!V101","v":0},{"$f":"Calculations!AD101","v":0},{"$f":"Calculations!AG101","v":0},{"$f":"Calculations!AG101","v":0},{"$f":"Calculations!AJ101","v":5.8275173416058729E-3},{"$f":"Calculations!AI100","v":{"$error":"#REF!"}},{"$f":"Calculations!X101","v":0},{"$f":"Calculations!Z101","v":0.1454491456306459},{"$f":"Calculations!AT101","v":0},{"$f":"Calculations!AR101","v":0},{"$f":"Calculations!AP101","v":0},{"$f":"Calculations!AS100","v":0},"Residential","Yes"]
[{"$f":"Calculations!B102","v":"UC1"},"Sainsbury’s Supermarket, Everard Close, St Albans AL1 2QU",{"$f":"Calculations!C102","v":2.4465108421999999},{"$f":"Calculations!G102","v":0},{"$f":"Calculations!K102","v":0},{"$f":"Calculations!J102","v":0},{"$f":"Calculations!O102","v":0},{"$f":"Calculations!P102","v":1},{"$f":"Calculations!V102","v":0},{"$f":"Calculations!AD102","v":4.9049445410219899E-3},{"$f":"Calculations!AG102","v":2.1272465096946223E-2},{"$f":"Calculations!AG102","v":2.1272465096946223E-2},{"$f":"Calculations!AJ102","v":5.9777013687170331E-2},{"$f":"Calculations!AI101","v":{"$error":"#REF!"}},{"$f":"Calculations!X102","v":0},{"$f":"Calculations!Z102","v":0},{"$f":"Calculations!AT102","v":0},{"$f":"Calculations!AR102","v":0},{"$f":"Calculations!AP102","v":0},{"$f":"Calculations!AS101","v":0},"Residential","Yes"]
[{"$f":"Calculations!B103","v":"UC28"},"New Greens Residents Association, 2 High Oaks, St Albans, AL3 6DL",{"$f":"Calculations!C103","v":0.20495811850000001},{"$f":"Calculations!G103","v":0},{"$f":"Calculations!K103","v":0},{"$f":"Calculations!J103","v":0},{"$f":"Calculations!O103","v":0},{"$f":"Calculations!P103","v":1},{"$f":"Calculations!V103","v":0},{"$f":"Calculations!AD103","v":0},{"$f":"Calculations!AG103","v":0},{"$f":"Calculations!AG103","v":0},{"$f":"Calculations!AJ103","v":5.8548546833971836E-2},{"$f":"Calculations!AI102","v":{"$error":"#REF!"}},{"$f":"Calculations!X103","v":0},{"$f":"Calculations!Z103","v":0},{"$f":"Calculations!AT103","v":0},{"$f":"Calculations!AR103","v":0},{"$f":"Calculations!AP103","v":0},{"$f":"Calculations!AS102","v":0},"Residential","Yes"]

{"sheet":"Calculations","index":2,"n_rows":103,"n_cols":48,"rows_kept":103,"cut":false,"hidden":false,"merged":[]}
["Name","Site Code","Site (ha)",null,"FZ3b (ha)",null,"FZ3b (%)","FZ3a (ha)",null,"FZ3a","FZ3a only (%)","FZ2 (ha)",null,"FZ2 (%)","FZ2 only (%)","FZ1 (%)","FZ3a+35CC (ha)",null,null,"FZ3a+70CC (ha)",null,null,"HFM",null,"RES Wet Day",null,"RES Dry Day",null,"SW30",null,"SW100",null,null,"SW1000",null,null,"Groundwater Cat 1 (>5m)",null,"Groundwater Cat 2 (0.5-5m)",null,"Groundwater Cat 3 (0.025-0.5m)",null,"Groundwater Cat 4 (at/within 0.025m)",null,"Total groundwater in Cat 3 or 4","Ordinary Watercourse","Within 100m of Canal Embankment","Shapefile"]
[" Toulmin Drive/Highelms, St Albans, AL3 6DX","OS2",0.19338197679999999,{"$f":"C2","v":0.19338197679999999},0,{"$f":"ROUND(E2,2)","v":0},{"$f":"F2/D2","v":0},0,{"$f":"ROUND(H2,2)","v":0},{"$f":"I2/D2","v":0},{"$f":"J2-G2","v":0},0,{"$f":"ROUND(L2,2)","v":0},{"$f":"M2/D2","v":0},{"$f":"N2-J2","v":0},{"$f":"1-N2","v":1},0,{"$f":"ROUND(Q2,2)","v":0},{"$f":"R2/D2","v":0},0,{"$f":"ROUND(T2,2)","v":0},{"$f":"U2/D2","v":0},0,{"$f":"W2/D2","v":0},0,{"$f":"Y2/D2","v":0},0,{"$f":"AA2/D2","v":0},0,{"$f":"AC2/D2","v":0},0,null,{"$f":"AE2/D2","v":0},0,{"$f":"AH2/#REF!","v":{"$error":"#REF!"}},{"$f":"AH2/D2","v":0},2.1027179999999999E-4,{"$f":"(AK2/D2)","v":1.0873391795837718E-3},0,{"$f":"(AM2/D2)","v":0},0,{"$f":"(AO2/D2)","v":0},0,{"$f":"(AQ2/D2)","v":0},{"$f":"(AR2+AP2)","v":0},null,null,"HELAA_sites_with_potential"]
["Land to the North of Bricket Wood, bounded by the M25 and A405 North Orbital","OS1",6.5233111778000001,6.5233111778000001,0,0,0,0,0,0,0,0,0,0,0,1,0,0,0,0,0,0,0,0,0,0,0,{"$f":"AA3/D3","v":0},8.7929091400000006E-2,1.3479211554285268E-2,0.27182007699999999,null,4.1669034266685383E-2,0.8339975382,{"$f":"AH3/#REF!","v":{"$error":"#REF!"}},0.12784880491953893,0,0,0,0,3.555487163,0.54504331712703846,0.45842459070000002,7.0274831018348666E-2,0.6153181481453871,null,null,"HELAA_sites_with_potential"]
[" West Redbourn, Redbourne, AL3 7HZ","B3",27.017108829500003,27.017108829500003,0,0,0,0,0,0,0,0,0,0,0,1,0,0,0,0,0,0,0,0,0.19035877470000001,7.04586030656793E-3,0.13700417440000001,5.071015380091486E-3,0.3360281973,1.2437607570099823E-2,0.62562567800000002,null,2.3156647957714809E-2,1.5257675255000001,{"$f":"AH4/#REF!","v":{"$error":"#REF!"}},5.6474122939239646E-2,0.89263780439999996,3.3039723459429828E-2,25.6840120779,0.95065731274160636,0.15942429720000001,5.9008644561524843E-3,0,0,5.9008644561524843E-3,null,null,"HELAA_sites_with_potential"]
["East Hemel Hempstead (Central), HP2 7LF","H3",143.67959622949999,143.67959622949999,0,0,0,0,0,0,0,0,0,0,0,1,0,0,0,0,0,0,0,0,0,0,0,0,3.8865499142000002,2.7050117178725911E-2,6.4348923684999999,null,4.4786403479458003E-2,15.281047967599999,{"$f":"AH5/#REF!","v":{"$error":"#REF!"}},0.10635503139354262,88.796381012200001,0.61801663800867856,11.27,7.8438416419255405E-2,0,0,0,0,0,null,null,"HELAA_sites_with_potential"]
["East Hemel Hempstead (South), HP2 4PA4","H4",57.420126058600005,57.420126058600005,0,0,0,0,0,0,0,0,0,0,0,1,0,0,0,0,0,0,0,0,0,0,0,0,0.63031596000000001,1.0977265346940065E-2,1.4677854531999999,null,2.556221231040235E-2,5.0387847063000004,{"$f":"AH6/#REF!","v":{"$error":"#REF!"}},8.7752937030435602E-2,47.680875804400003,0.83038612203218387,0,0,0,0,0,0,0,null,null,"HELAA_sites_with_potential"]
[" Baulk Close, Harpenden, AL5 4LY","M25",0.55562100680000004,0.55562100680000004,0,0,0,1.4703094700000001E-2,0.01,1.79978796294856E-2,1.79978796294856E-2,0.11550728570000002,0.12,0.21597455555382716,0.19797667592434157,0.78402544444617284,0,0,0,0,0,0,0.10181744079999999,0.18324980437006758,7.95747183E-2,0.1432176201513625,3.0117856899999997E-2,5.4205756318427223E-2,0,0,2.7705507999999999E-3,null,4.9864039805775024E-3,4.8588570900000003E-2,{"$f":"AH7/#REF!","v":{"$error":"#REF!"}},8.7449125042692685E-2,0,0,0.52428576719999997,0.94360321295181082,2.4607834199999998E-2,4.4288883787393901E-2,6.7274620999999996E-3,1.2108005308772641E-2,5.6396889096166539E-2,null,null,"HELAA_sites_with_potential"]
[" South of Harpenden Lane, Redbourn, AL3 7RQ","M6 ",12.564116203899999,12.564116203899999,0,0,0,1.6354798607999999,1.64,0.13053047053886138,0.13053047053886138,3.5981677837000001,3.6,0.28653030118286649,0.15599983064400511,0.71346969881713351,0,0,0,0,0,0,0,0,4.2671029917999999,0.33962619594965682,0,0,2.0743713718999999,0.16510284832100636,2.8039784431000001,null,0.22317355216991891,5.1701087981999994,{"$f":"AH8/#REF!","v":{"$error":"#REF!"}},0.41149800863789826,0,0,4.5451381221,0.361755498623067,1.5494369386,0.12332239796692128,6.46954107,0.51492209758389562,0.63824449555081686,null,null,"HELAA_sites_with_potential"]
[" Falconers Field, Harpenden, AL5 3ES","M16",1.1580997708,1.1580997708,0,0,0,0,0,0,0,0,0,0,0,1,0,0,0,0,0,0,0,0,0,0,0,0,0,0,0,null,0,0,{"$f":"AH9/#REF!","v":{"$error":"#REF!"}},0,5.7998377700000006E-2,5.0080639995235897E-2,0,0,0,0,0,0,0,null,null,"HELAA_sites_with_potential"]
["Townsend Lane, Harpenden, AL5 2RH","M7",1.8828156492999999,1.8828156492999999,0,0,0,0,0,0,0,0,0,0,0,1,0,0,0,0,0,0,0,0,0,0,0,0,0,0,1.0800000000000001E-2,null,5.7360899905496664E-3,4.1599999999999998E-2,{"$f":"AH10/#REF!","v":{"$error":"#REF!"}},2.2094568852487603E-2,1.8828156492999999,1,0,0,0,0,0,0,0,null,null,"HELAA_sites_with_potential"]
["Wood End, Hatching Green, Harpenden, AL5 2JT","M22",0.76808437540000007,0.76808437540000007,0,0,0,0,0,0,0,0,0,0,0,1,0,0,0,0,0,0,0,0,0,0,0,0,0,0,1.6799999999999999E-2,null,2.1872596993332872E-2,3.21336682E-2,{"$f":"AH11/#REF!","v":{"$error":"#REF!"}},4.1836117527147394E-2,0.11652616419999999,0.15171010885271027,0,0,0,0,0,0,0,null,null,"HELAA_sites_with_potential"]
["Rothamsted Lodge, Hatching Green, AL5 2GT","M21",1.9297748954999998,1.9297748954999998,0,0,0,0,0,0,0,0,0,0,0,1,0,0,0,0,0,0,0,0,0,0,0,0,0,0,0,null,0,2.12704E-4,{"$f":"AH12/#REF!","v":{"$error":"#REF!"}},1.1022218212911767E-4,0,0,0,0,0,0,0,0,0,null,null,"HELAA_sites_with_potential"]
["Cross Lane, Harpenden, AL5 1BX","M1 a",6.4710480763999998,6.4710480763999998,0,0,0,0,0,0,0,0,0,0,0,1,0,0,0,0,0,0,0,0,0,0,0,0,2.1701109E-2,3.3535694285975466E-3,5.3784736799999996E-2,null,8.3115959215561488E-3,0.25426824570000001,{"$f":"AH13/#REF!","v":{"$error":"#REF!"}},3.9293209183118225E-2,6.4710480927999994,1.0000000025343654,0,0,0,0,0,0,0,null,null,"HELAA_sites_with_potential"]
["Sewage Treatment Works, Piggottshill Lane, Harpenden, AL5 5UN","M5",4.0995472989000001,4.0995472989000001,0,0,0,0,0,0,0,0,0,0,0,1,0,0,0,0,0,0,0,0,0,0,0,0,0.12791299740000001,3.1201737185547758E-2,0.4570135615,null,0.11147903126343411,1.1042594896,{"$f":"AH14/#REF!","v":{"$error":"#REF!"}},0.26936132433361543,0.29423421329999999,7.1772367007193597E-2,3.8053128745000002,0.92822758149931595,0,0,0,0,0,null,null,"HELAA_sites_with_potential"]
["Piggotshill Lane, Harpenden, AL5 5UN","M19",0.86301046580000007,0.86301046580000007,0,0,0,0,0,0,0,0,0,0,0,1,0,0,0,0,0,0,0,0,0,0,0,0,1.29548999E-2,1.5011289449417009E-2,1.56609453E-2,null,1.8146877611133597E-2,5.8770720300000003E-2,{"$f":"AH15/#REF!","v":{"$error":"#REF!"}},6.8099661161722141E-2,0.86301046580000007,1,0,0,0,0,0,0,0,null,null,"HELAA_sites_with_potential"]
["South of Codicote Road, Wheathampstead, AL4 8GD","M24",1.0039526531,1.0039526531,0,0,0,0,0,0,0,0,0,0,0,1,0,0,0,0,0,0,0,0,0,0,0,0,0,0,0,null,0,0,{"$f":"AH16/#REF!","v":{"$error":"#REF!"}},0,0,0,1.0039526531,1,0,0,0,0,0,null,null,"HELAA_sites_with_potential"]
["Hill Dyke Road, Wheathampstead, AL4 8TR","M2",3.5538439838999998,3.5538439838999998,0,0,0,0,0,0,0,0,0,0,0,1,0,0,0,0,0,0,0,0,0,0,0,0,0,0,0,null,0,0,{"$f":"AH17/#REF!","v":{"$error":"#REF!"}},0,3.5538439838999998,1,0,0,0,0,0,0,0,null,null,"HELAA_sites_with_potential"]
["Highway Chipping Depot, Lower Luton Roa, AL4 8JJ","M26",0.33922200889999998,0.33922200889999998,0,0,0,8.7455470000000007E-4,0,0,0,0.1091665185,0.11,0.32427141256753522,0.32427141256753522,0.67572858743246478,0,0,0,0,0,0,0.1091666295,0.32181470139274326,7.4054469999999999E-3,2.183067963076378E-2,1.7899071999999999E-3,5.2765066918981978E-3,2.9812000000000004E-6,8.7883448649666919E-6,4.1175800000000002E-4,null,1.2138304390543926E-3,2.8842020000000002E-3,{"$f":"AH18/#REF!","v":{"$error":"#REF!"}},8.5024023333646389E-3,0,0,0.26117583820000001,0.76992598165112758,2.18791687E-2,6.4498081274112759E-2,5.6167008499999997E-2,0.16557595623625235,0.23007403751036509,null,null,"HELAA_sites_with_potential"]
["North of Wheathampstead Road, Harpenden, AL5 1 Ab","M17",2.2588565012999999,2.2588565012999999,0,0,0,0,0,0,0,0,0,0,0,1,0,0,0,0,0,0,0,0,0,0,0,0,0,0,0,null,0,0,{"$f":"AH19/#REF!","v":{"$error":"#REF!"}},0,2.2588565012999999,1,0,0,0,0,0,0,0,null,null,"HELAA_sites_with_potential"]
["Lower Luton Road, Harpenden, AL5 5AF","M20",0.73588067130000001,0.73588067130000001,0,0,0,3.6206605000000005E-3,0,0,0,1.6592709099999998E-2,0.02,2.7178319502084741E-2,2.7178319502084741E-2,0.97282168049791529,0,0,0,0,0,0,0,0,0.13112662119999999,0.17819006031012188,1.96690136E-2,2.67285367955825E-2,0,0,0,null,0,1.16669676E-2,{"$f":"AH20/#REF!","v":{"$error":"#REF!"}},1.5854428652663538E-2,0,0,0.2362446742,0.32103666180367579,7.27753659E-2,9.8895607315566139E-2,0.42686088330000005,0.58006807346347544,0.67896368077904157,null,null,"HELAA_sites_with_potential"]
["North of Oakwood Road, Bricket Wood, AL2 3PT","M4",3.0680694603999998,3.0680694603999998,0,0,0,0,0,0,0,0,0,0,0,1,0,0,0,0,0,0,0,0,0,0,0,0,0,0,0,null,0,6.6792379999999998E-2,{"$f":"AH21/#REF!","v":{"$error":"#REF!"}},2.1770165526595324E-2,0,0,0,0,3.0680695010000001,1.0000000132330773,0,0,1.0000000132330773,null,null,"HELAA_sites_with_potential"]
["Bucknalls Drive, Bricket Wood, AL2 3YT","M15",1.2758420158000001,1.2758420158000001,0,0,0,0,0,0,0,0,0,0,0,1,0,0,0,0,0,0,0,0,0,0,0,0,0,0,0,null,0,2.9322508000000001E-2,{"$f":"AH22/#REF!","v":{"$error":"#REF!"}},2.2982867499949596E-2,0,0,0,0,0,0,0,0,0,null,null,"HELAA_sites_with_potential"]
["East and West of Miriam Lane, Chiswell Green, AL2 3NY ","M1",4.0764700624999994,4.0764700624999994,0,0,0,0,0,0,0,0,0,0,0,1,0,0,0,0,0,0,0,0,0,0,0,0,9.097539999999999E-5,2.2317200569408084E-5,9.3955123000000005E-3,null,2.3048157243764872E-3,0.41613507049999998,{"$f":"AH23/#REF!","v":{"$error":"#REF!"}},0.10208220939191555,0,0,4.076470198,1.0000000332395427,0,0,0,0,0,null,null,"HELAA_sites_with_potential"]
["Bedmond Lane, St Albans, AL3 4AH","M3",5.8355313460999998,5.8355313460999998,0,0,0,0,0,0,0,0,0,0,0,1,0,0,0,0,0,0,0,0,0,0,0,0,0,0,2.6873083100000004E-2,null,4.6050790418527719E-3,0.1032807045,{"$f":"AH24/#REF!","v":{"$error":"#REF!"}},1.7698594759331474E-2,5.8355313210000004,0.99999999569876363,0,0,0,0,0,0,0,null,null,"HELAA_sites_with_potential"]
["Tippendell Lane and Orchard Drive, How Wood, AL2 2HJ","M10",2.3194843134999998,2.3194843134999998,0,0,0,0,0,0,0,0,0,0,0,1,0,0,0,0,0,0,0,0,0,0,0,0,8.7091913300000004E-2,3.7547963912970869E-2,0.1338764083,null,5.7718177924638077E-2,0.50611828979999995,{"$f":"AH25/#REF!","v":{"$error":"#REF!"}},0.21820293711591854,0,0,2.3194843134999998,1,0,0,0,0,0,null,null,"HELAA_sites_with_potential"]
["West of Watling Street, Park Street, AL2 2PZ","L2",4.3267615155000003,4.3267615155000003,0,0,0,0,0,0,0,0,0,0,0,1,0,0,0,0,0,0,0,0,0,0,0,0,4.5999999999999999E-2,1.063150807716386E-2,0.11910210709999999,null,2.7526848122627939E-2,0.27384010289999999,{"$f":"AH26/#REF!","v":{"$error":"#REF!"}},6.3289853605059412E-2,0,0,4.3267615210000008,1.0000000012711587,0,0,0,0,0,null,null,"HELAA_sites_with_potential"]
["Frogmore Vicarage, Frogmore, AL2 2JU","M27",1.0607514749,1.0607514749,0,0,0,0,0,0,0,0,0,0,0,1,0,0,0,0,0,0,0,0,0,0,0,0,0,0,0,null,0,0,{"$f":"AH27/#REF!","v":{"$error":"#REF!"}},0,0,0,1.0607514749,1,0,0,0,0,0,null,null,"HELAA_sites_with_potential"]
["North of Boissy Close, Colney Heath, AL4 0UE","M13",1.4346951383,1.4346951383,0,0,0,0,0,0,0,0,0,0,0,1,0,0,0,0,0,0,0,0,0,0,0,0,8.6511861999999991E-3,6.0299822373769034E-3,2.1867640599999998E-2,null,1.5242012059726792E-2,7.5205246399999995E-2,{"$f":"AH28/#REF!","v":{"$error":"#REF!"}},5.2418973475516377E-2,0,0,0,0,0,0,0,0,0,null,null,"HELAA_sites_with_potential"]
["Glinwell, Hatfield Road, St Albans, AL4 0HE","B5",20.8470974994,20.8470974994,0,0,0,2.3175993797999999,2.3199999999999998,0.11128647525473374,0.11128647525473374,2.8359682015000001,2.84,0.13622999557044993,2.4943520315716186E-2,0.8637700044295501,0,0,0,0,0,0,0,0,0,0,0,0,0.51677362439999996,2.4788756536245547E-2,1.05666218,null,5.0686297218613369E-2,5.3349001083000003,{"$f":"AH29/#REF!","v":{"$error":"#REF!"}},0.25590613314172606,0,0,0,0,1.7124380691999999,8.2142757247107678E-2,6.0516445908000005,0.29028715345021883,0.3724299106973265,null,null,"HELAA_sites_with_potential"]
["East of Kay Walk, St Albans, AL4 0XH","M18",3.3411318420000002,3.3411318420000002,0,0,0,0,0,0,0,0,0,0,0,1,0,0,0,0,0,0,0,0,0,0,0,0,1.20812794E-2,3.6159241751945207E-3,1.42566836E-2,null,4.2670221572178235E-3,0.1385629297,{"$f":"AH30/#REF!","v":{"$error":"#REF!"}},4.1471853327720312E-2,0,0,0,0,0,0,0,0,0,null,null,"HELAA_sites_with_potential"]
["Burston Nurseriess, North Orbital Road, St albans, AL2 2DS","L1",14.327254876899998,14.327254876899998,0,0,0,0,0,0,0,0,0,0,0,1,0,0,0,0,0,0,0,0,0,0,0,0,0.13436771590000002,9.3784690126957025E-3,0.38308153119999999,null,2.673795744484499E-2,1.2135456819999999,{"$f":"AH31/#REF!","v":{"$error":"#REF!"}},8.4701898055615246E-2,0,0,2.0210014301000001,0.14105992023346248,0,0,0,0,0,null,null,"HELAA_sites_with_potential"]
[" West of London Colney, AL2 1LN","B6",13.5046065704,13.5046065704,0,0,0,0,0,0,0,0,0,0,0,1,0,0,0,0,0,0,0.10111221000000001,7.4872384821355895E-3,0,0,0,0,0.16255874619999999,1.2037281156809375E-2,0.20226166599999998,null,1.4977234986121413E-2,0.80180753809999994,{"$f":"AH32/#REF!","v":{"$error":"#REF!"}},5.9372891310838886E-2,0,0,13.504606898400001,1.0000000242880085,0,0,0,0,0,null,null,"HELAA_sites_with_potential"]
["Harper Lane, north of Radlett, WD7 7HU","B8",11.4012446846,11.4012446846,0,0,0,0.1554607056,0.16,1.4033555495578194E-2,1.4033555495578194E-2,0.2285769597,0.23,2.0173236024893654E-2,6.1396805293154593E-3,0.97982676397510637,0,{"$f":"ROUND(Q33,2)","v":0},{"$f":"R33/D33","v":0},0,{"$f":"ROUND(T33,2)","v":0},{"$f":"U33/D33","v":0},0,0,0,0,0,0,0,{"$f":"AC33/D33","v":0},0,null,{"$f":"AE33/D33","v":0},0.18799856569999998,{"$f":"AH33/#REF!","v":{"$error":"#REF!"}},{"$f":"AH33/D33","v":1.6489301905250331E-2},4.6769909927000004,{"$f":"(AK33/D33)","v":0.41021757905234252},2.8392203055,{"$f":"(AM33/D33)","v":0.24902722325879204},0,{"$f":"(AO33/D33)","v":0},2.32179E-5,{"$f":"(AQ33/D33)","v":2.036435550879906E-6},2.036435550879906E-6,null,null,"HELAA_sites_with_potential"]
["Verulam Golf Club, St Albans, AL1 1JG","M8",2.7979560754999997,2.7979560754999997,0,0,0,0,0,0,0,0,0,0,0,1,0,0,0,0,0,0,0,0,0,0,0,0,8.5962545899999993E-2,3.0723336457180922E-2,0.19757030689999999,null,7.0612369018228358E-2,0.43332262199999994,{"$f":"AH34/#REF!","v":{"$error":"#REF!"}},0.15487113103538069,0.70278815649999993,0.25117912416634719,2.0951678126999997,0.74882083784163389,0,0,0,0,0,null,null,"HELAA_sites_with_potential"]
["North West Harpenden, AL5 3NP","B7",12.188416180000001,12.188416180000001,0,0,0,0,0,0,0,0,0,0,0,1,0,0,0,0,0,0,0,0,0,0,0,0,1.5377876999999999E-3,1.2616796778923246E-4,7.8317173999999986E-3,null,6.4255415013240861E-4,1.0443149584,{"$f":"AH35/#REF!","v":{"$error":"#REF!"}},8.5680940245018766E-2,9.8317874473,0.80665012599692831,0.68365404779999994,5.6090474570585254E-2,0,0,0,0,0,null,null,"HELAA_sites_with_potential"]
["Beesonend Lane, Harpenden, AL5 2AB","M14",2.0297519310999999,2.0297519310999999,0,0,0,0,0,0,0,0,0,0,0,1,0,0,0,0,0,0,0,0,0,0,0,0,0,0,1.4800000000000001E-2,null,7.2915314296458471E-3,2.7708373599999999E-2,{"$f":"AH36/#REF!","v":{"$error":"#REF!"}},1.3651113308700624E-2,2.0297519614000001,1.0000000149279327,0,0,0,0,0,0,0,null,null,"HELAA_sites_with_potential"]
["Amwell Top Field, Wheathampstead, AL4 8DZ","M9",4.2666477615999998,4.2666477615999998,0,0,0,0,0,0,0,0,0,0,0,1,0,0,0,0,0,0,0,0,0,0,0,0,0,0,5.0340000000000002E-7,null,1.1798489777633394E-7,3.7368048399999999E-2,{"$f":"AH37/#REF!","v":{"$error":"#REF!"}},8.7581751501293187E-3,4.2666477615999998,1,0,0,0,0,0,0,0,null,null,"HELAA_sites_with_potential"]
["North of The Slype, Gustard Wood, AL4 8SA","M12",4.2411204833000005,4.2411204833000005,0,0,0,0,0,0,0,0,0,0,0,1,0,0,0,0,0,0,0,0,0,0,0,0,1.0349500000000001E-2,2.4402749322384476E-3,0.14424238150000002,null,3.4010441832052256E-2,0.64848891149999999,{"$f":"AH38/#REF!","v":{"$error":"#REF!"}},0.15290509054234958,2.9716342294999998,0.70067196657138631,0,0,0,0,0,0,0,null,null,"HELAA_sites_with_potential"]
["North Hemel Hempstead, AL3 7AU","H1",88.834999632700004,88.834999632700004,0,0,0,0,0,0,0,0,0,0,0,1,0,0,0,0,0,0,0,0,1.8870770905000001,2.1242495618870587E-2,0.70393114589999994,7.924029366921775E-3,2.7445662047999999,3.0895100086089606E-2,3.9393217881999996,null,4.4344254004476211E-2,10.609821564799999,{"$f":"AH39/#REF!","v":{"$error":"#REF!"}},0.11943289929270785,0,0,81.683908482199996,0.9195014219613088,6.3484731161999992,7.1463647688958146E-2,5.4145744199999998E-2,6.0950913968450164E-4,7.2073156828642654E-2,null,null,"HELAA_sites_with_potential"]
["East Hemel Hempstead (North), HP2 7HT","H2 ",169.37634958429999,169.37634958429999,0,0,0,0,0,0,0,0,0,0,0,1,0,0,0,0,0,0,0,0,12.3554588367,7.294677720368857E-2,10.7737349353,6.3608260313449627E-2,5.6531916690999999,3.3376511437249748E-2,8.0548917532000015,null,4.7556177547627546E-2,17.4226674839,{"$f":"AH40/#REF!","v":{"$error":"#REF!"}},0.10286363784944247,63.246084359699999,0.37340564084020422,47.763022200200005,0.28199345609599386,0,0,0,0,0,null,null,"HELAA_sites_with_potential"]
["North East Harpenden, AL5 5EG","B2",43.237137070599999,43.237137070599999,0,0,0,0,0,0,0,4.3618633300000001E-2,0.04,9.2513063329530305E-4,9.2513063329530305E-4,0.99907486936670464,0,0,0,0,0,0,0,0,0.25333183469999998,5.8591260167468002E-3,9.6169528999999997E-3,2.2242344316870252E-4,0.17134470239999999,3.9629058260776803E-3,0.42876647830000003,null,9.9166250901368963E-3,2.9526304094999998,{"$f":"AH41/#REF!","v":{"$error":"#REF!"}},6.8289221015692611E-2,37.2623414826,0.86181333934658944,5.4963934478000001,0.12712204878008421,0,0,0,0,0,null,null,"HELAA_sites_with_potential"]
["Smallford Works, Smallford Lane, AL4 0SA","P1",3.3350426756,3.3350426756,0,0,0,1.1675283E-3,0,0,0,1.1670306000000001E-3,0,0,0,1,0,0,0,0,0,0,0,0,0,0,0,0,1.3575548E-3,4.0705769972066862E-4,1.1620488E-2,null,3.4843596110533679E-3,1.5415599738000001,{"$f":"AH42/#REF!","v":{"$error":"#REF!"}},0.4622309588655148,0,0,0,0,8.61156E-2,2.5821438697034706E-2,1.8417601590999999,0.55224485508829446,0.57806629378532914,null,null,"HELAA_sites_with_potential"]
["Land at North Orbital Road, AL2 1DL","P2",1.8820350386999998,1.8820350386999998,0,0,0,0,0,0,0,0,0,0,0,1,0,0,0,0,0,0,0,0,0,0,0,0,2.96225894E-2,1.573965882190034E-2,5.68206832E-2,null,3.0191086792543682E-2,0.12569051340000001,{"$f":"AH43/#REF!","v":{"$error":"#REF!"}},6.6784364167215338E-2,0,0,0,0,1.7689742014000001,0.93992628459346028,0,0,0.93992628459346028,null,null,"HELAA_sites_with_potential"]
["Rothamsted Research, Harpenden Campus, AL5 2JQ","M11",1.6179728553000001,1.6179728553000001,0,0,0,0,0,0,0,0,0,0,0,1,0,0,0,0,0,0,0,0,0,0,0,0,0,0,0,null,0,0,{"$f":"AH44/#REF!","v":{"$error":"#REF!"}},0,0.2864702724,0.17705505470107746,0,0,0,0,0,0,0,null,null,"HELAA_sites_with_potential"]
["North St Albans, AL3 6DD","B1",46.748278584700003,46.748278584700003,0,0,0,0,0,0,0,0,0,0,0,1,0,0,0,0,0,0,0,0,0,0,0,0,1.0690676307,2.2868598867507594E-2,2.0191783107000001,null,4.3192570332650629E-2,6.8206116202999993,{"$f":"AH45/#REF!","v":{"$error":"#REF!"}},0.14590080804670061,20.020254405799999,0.42825650509305219,26.553949649699998,0.56801983845434467,0,0,0,0,0,null,null,"HELAA_sites_with_potential"]
["East St Albans, AL4 9JJ","B4",21.686293457400001,21.686293457400001,0,0,0,0,0,0,0,0,0,0,0,1,0,0,0,0,0,0,0,0,0,0,0,0,5.4661970599999998E-2,2.5205769122038568E-3,0.44855636240000002,null,2.0683864823702245E-2,1.8817728042999999,{"$f":"AH46/#REF!","v":{"$error":"#REF!"}},8.6772449519624276E-2,0,0,0,0,6.7563008466000003,0.31154705435817809,0,0,0.31154705435817809,null,null,"HELAA_sites_with_potential"]
["Ashdale Lye Lane, Bricket Wood, AL2 3LQ","M23",2.2564923885999999,2.2564923885999999,0,0,0,0,0,0,0,0,0,0,0,1,0,0,0,0,0,0,0,0,0,0,0,0,0,0,0,null,0,1.4753487400000001E-2,{"$f":"AH47/#REF!","v":{"$error":"#REF!"}},6.5382393818547452E-3,0,0,0,0,0,0,0,0,0,null,null,"HELAA_sites_with_potential"]
["Land South West of London Colney Allotments, AL2 1RG","U2",0.66237597879999999,0.66237597879999999,0,0,0,0,0,0,0,0,0,0,0,1,0,0,0,0,0,0,0,0,0,0,0,0,0,0,0,null,0,0,{"$f":"AH48/#REF!","v":{"$error":"#REF!"}},0,0,0,0.66237597879999999,1,0,0,0,0,0,null,null,"HELAA_sites_with_potential"]
["Former Bricket Wood United Reformed Church, AL2 3QR","U3",0.17254536740000001,0.17254536740000001,0,0,0,0,0,0,0,0,0,0,0,1,0,0,0,0,0,0,0,0,0,0,0,0,0,0,0,null,0,0,{"$f":"AH49/#REF!","v":{"$error":"#REF!"}},0,0,0,0,0,0,0,0,0,0,null,null,"HELAA_sites_with_potential"]
["Greenwood United Reformed Church AL2 3HG","U4",0.47010906919999995,0.47010906919999995,0,0,0,0,0,0,0,0,0,0,0,1,0,0,0,0,0,0,0,0,0,0,0,0,0,0,0,null,0,0,{"$f":"AH50/#REF!","v":{"$error":"#REF!"}},0,0.47010906919999995,1,0,0,0,0,0,0,0,null,null,"HELAA_sites_with_potential"]
["East of Morris Recreation Ground, adjacent to A1081 and White Horse Lane","U1",1.3203274493000001,1.3203274493000001,0,0,0,0,0,0,0,0,0,0,0,1,0,0,0,0,0,0,0,0,0,0,0,0,1.26398341E-2,9.5732570785385697E-3,1.9854308299999998E-2,null,1.5037412355947143E-2,2.4506002000000002E-2,{"$f":"AH51/#REF!","v":{"$error":"#REF!"}},1.8560548758561661E-2,0,0,0.25420447629999998,0.19253138790288116,0,0,0,0,0,null,null,"HELAA_sites_with_potential"]
["Car Park adj. to 42-46 Adelaide Street, St Albans, AL3 5BH","UC48",5.16856168E-2,5.16856168E-2,0,0,0,0,0,0,0,0,0,0,0,1,0,0,0,0,0,0,0,0,0,0,0,0,0,0,0,null,0,0,{"$f":"AH52/#REF!","v":{"$error":"#REF!"}},0,5.16856168E-2,1,0,0,0,0,0,0,0,null,null,"HELAA_sites_with_potential"]
["50 Victoria Street St Albans, AL1 3HZ","UC11",0.13987537450000001,0.13987537450000001,0,0,0,0,0,0,0,0,0,0,0,1,0,0,0,0,0,0,0,0,0,0,0,0,0,0,0,null,0,4.0307290000000001E-4,{"$f":"AH53/#REF!","v":{"$error":"#REF!"}},2.8816573427655058E-3,0.13987537450000001,1,0,0,0,0,0,0,0,null,null,"HELAA_sites_with_potential"]
["54 Lemsford Road St Albans, AL1 3PR","UC19",0.35317474539999999,0.35317474539999999,0,0,0,0,0,0,0,0,0,0,0,1,0,0,0,0,0,0,0,0,0,0,0,0,0,0,4.8411515999999995E-3,null,1.3707524852936441E-2,2.9040734700000001E-2,{"$f":"AH54/#REF!","v":{"$error":"#REF!"}},8.2227665138142697E-2,0.35317474539999999,1,0,0,0,0,0,0,0,null,null,"HELAA_sites_with_potential"]
["104 High Street London Colney, AL2 1QL","UC20",0.26852970059999998,0.26852970059999998,0,0,0,0,0,0,0,0,0,0,0,1,0,0,0,0,0,0,0,0,0,0,0,0,0,0,0,null,0,0,{"$f":"AH55/#REF!","v":{"$error":"#REF!"}},0,0,0,0.26852970059999998,1,0,0,0,0,0,null,null,"HELAA_sites_with_potential"]
["18- 20 Catherine Street St Albans, AL3 5BY","UC5",0.42746397829999994,0.42746397829999994,0,0,0,0,0,0,0,0,0,0,0,1,0,0,0,0,0,0,0,0,0,0,0,0,0,0,0,null,0,1.6209394000000002E-2,{"$f":"AH56/#REF!","v":{"$error":"#REF!"}},3.791990629120106E-2,0.42746393829999996,0.9999999064248638,0,0,0,0,0,0,0,null,null,"HELAA_sites_with_potential"]
["13-19 Sutton Road & 5-11a Pickford Road St Albans, AL1 5JH","UC6",0.3244836847,0.3244836847,0,0,0,0,0,0,0,0,0,0,0,1,0,0,0,0,0,0,0,0,0,0,0,0,1.3371283E-3,4.1207874634320556E-3,1.40304048E-2,null,4.3239168751956672E-2,6.0350906799999993E-2,{"$f":"AH57/#REF!","v":{"$error":"#REF!"}},0.18599057408940967,0,0,0.3244836847,1,0,0,0,0,0,null,null,"HELAA_sites_with_potential"]
["Garage Blocks adj. to 76 Oakley Road and 151 Grove Road, Harpenden, AL5 1HJ","UC46",0.11725040739999999,0.11725040739999999,0,0,0,0,0,0,0,0,0,0,0,1,0,0,0,0,0,0,0,0,0,0,0,0,5.1698813999999996E-3,4.4092651911757874E-2,1.3053791200000001E-2,null,0.11133258714800852,4.84377275E-2,{"$f":"AH58/#REF!","v":{"$error":"#REF!"}},0.41311351127979112,0,0,0.11725040739999999,1,0,0,0,0,0,null,null,"HELAA_sites_with_potential"]
["Crabtree Fields / Land at Waldegrave Park, Harpenden, AL5 5SA","UC47",0.87669037970000008,0.87669037970000008,0,0,0,0,0,0,0,0,0,0,0,1,0,0,0,0,0,0,0,0,0,0,0,0,4.0836150000000005E-3,4.6579899752035572E-3,3.2616214099999999E-2,null,3.7203800629318114E-2,9.3784927099999998E-2,{"$f":"AH59/#REF!","v":{"$error":"#REF!"}},0.10697611069040455,0.87669037970000008,1,0,0,0,0,0,0,0,null,null,"HELAA_sites_with_potential"]
["Land Rear of New House Park Shops, St Albans, AL1 1UJ","UC40",0.1180911462,0.1180911462,0,0,0,0,0,0,0,0,0,0,0,1,0,0,0,0,0,0,0,0,0,0,0,0,0,0,7.1379519999999999E-4,null,6.0444429829744507E-3,3.1448694399999998E-2,{"$f":"AH60/#REF!","v":{"$error":"#REF!"}},0.26630865574577678,0,0,0,0,0,0,0,0,0,null,null,"HELAA_sites_with_potential"]
["Car Park to rear of 32-34 Upper Marlborough Road, St Albans, AL1 3 UU","UC4",0.22186474469999998,0.22186474469999998,0,0,0,0,0,0,0,0,0,0,0,1,0,0,0,0,0,0,0,0,0,0,0,0,0,0,0,null,0,0,{"$f":"AH61/#REF!","v":{"$error":"#REF!"}},0,0.22186474469999998,1,0,0,0,0,0,0,0,null,null,"HELAA_sites_with_potential"]
["318 Watford Road, Chiswell Green, AL2 3DP","UC25",0.19299448799999999,0.19299448799999999,0,0,0,0,0,0,0,0,0,0,0,1,0,0,0,0,0,0,0,0,0,0,0,0,0,0,0,null,0,0,{"$f":"AH62/#REF!","v":{"$error":"#REF!"}},0,0,0,0.19299448799999999,1,0,0,0,0,0,null,null,"HELAA_sites_with_potential"]
["Garage Block rear of 109-179 Hughenden Road, St Albans, AL4 9QW","UC10",0.2707832745,0.2707832745,0,0,0,0,0,0,0,0,0,0,0,1,0,0,0,0,0,0,0,0,0,0,0,0,0,0,0,null,0,0,{"$f":"AH63/#REF!","v":{"$error":"#REF!"}},0,0,0,0,0,0.2707832745,1,0,0,1,null,null,"HELAA_sites_with_potential"]
["Garage Block Between Hughenden Road and The Ridgeway, St Albans, AL4 9RH","UC12",0.22188063129999999,0.22188063129999999,0,0,0,0,0,0,0,0,0,0,0,1,0,0,0,0,0,0,0,0,0,0,0,0,0,0,0,null,0,1.1719660000000001E-4,{"$f":"AH64/#REF!","v":{"$error":"#REF!"}},5.2819662227092292E-4,0,0,0,0,0.22188065639999999,1.0000001131238894,0,0,1.0000001131238894,null,null,"HELAA_sites_with_potential"]
["Car Park to rear of 3 Church Green (Waitrose), Harpenden, AL5 2TJ","UC14",0.33669957030000003,{"$f":"C65","v":0.33669957030000003},0,{"$f":"ROUND(E65,2)","v":0},{"$f":"F65/D65","v":0},0,{"$f":"ROUND(H65,2)","v":0},{"$f":"I65/D65","v":0},{"$f":"J65-G65","v":0},0,{"$f":"ROUND(L65,2)","v":0},{"$f":"M65/D65","v":0},{"$f":"N65-J65","v":0},{"$f":"1-N65","v":1},0,{"$f":"ROUND(Q65,2)","v":0},{"$f":"R65/D65","v":0},0,{"$f":"ROUND(T65,2)","v":0},{"$f":"U65/D65","v":0},0,{"$f":"W65/D65","v":0},0,{"$f":"Y65/D65","v":0},0,0,8.722849999999999E-3,{"$f":"AC65/D65","v":2.5906923469572359E-2},1.1993054899999999E-2,null,{"$f":"AE65/D65","v":3.561945413032206E-2},3.2131889099999998E-2,{"$f":"AH65/#REF!","v":{"$error":"#REF!"}},{"$f":"AH65/D65","v":9.5431927850013046E-2},0.22162966110000001,{"$f":"(AK65/D65)","v":0.65824159176243535},0.11506990980000001,{"$f":"(AM65/D65)","v":0.34175841001956869},0,{"$f":"(AO65/D65)","v":0},0,{"$f":"(AQ65/D65)","v":0},{"$f":"(AR65+AP65)","v":0},null,null,"HELAA_sites_with_potential"]
["5 Spencer Street, St Albans, AL3 5EH","UC7",0.18590777889999999,0.18590777889999999,0,0,0,0,0,0,0,0,0,0,0,1,0,0,0,0,0,0,0,0,0,0,0,{"$f":"AA66/D66","v":0},0,0,0,null,0,0,{"$f":"AH66/#REF!","v":{"$error":"#REF!"}},0,0.18590777889999999,1,0,0,0,0,0,0,0,null,null,"HELAA_sites_with_potential"]
["Garage Block to south of Abbots Park Abbots Park, St Albans, AL1 1TW","UC51",5.6391443499999999E-2,5.6391443499999999E-2,0,0,0,0,0,0,0,0,0,0,0,1,0,0,0,0,0,0,0,0,0,0,0,0,0,0,0,null,0,2.3768035699999999E-2,{"$f":"AH67/#REF!","v":{"$error":"#REF!"}},0.42148301630193241,5.6391443499999999E-2,1,0,0,0,0,0,0,0,null,null,"HELAA_sites_with_potential"]
["Berkeley House, Barnet Road, London Colney, AL2 1BG","UC27",0.14452927729999998,0.14452927729999998,0,0,0,0,0,0,0,2.8423707999999999E-2,0.03,0.20757040068586852,0.20757040068586852,0.79242959931413148,0,0,0,0,0,0,2.8423600299999997E-2,0.19666327010686574,0,0,8.851741E-4,6.1245314204584353E-3,0,0,0,null,0,1.9147000000000001E-6,{"$f":"AH68/#REF!","v":{"$error":"#REF!"}},1.324783487310775E-5,0,0,0.12186810319999999,0.84320703373502592,0,0,0,0,0,null,null,"HELAA_sites_with_potential"]
["Garage Block to east of 8 Heath Close, Harpenden, AL5 1QN","UC39",0.12762842330000002,0.12762842330000002,0,0,0,0,0,0,0,0,0,0,0,1,0,0,0,0,0,0,0,0,0,0,0,0,1.6103254500000001E-2,0.12617294865539563,4.1954531600000004E-2,null,0.32872404528090726,0.1215077385,{"$f":"AH69/#REF!","v":{"$error":"#REF!"}},0.95204293337062629,0,0,0.12762842330000002,1,0,0,0,0,0,null,null,"HELAA_sites_with_potential"]
["Garage Block west of Thirlestane, St Albans, AL1 3PE","UC16",0.1774691924,0.1774691924,0,0,0,0,0,0,0,0,0,0,0,1,0,0,0,0,0,0,0,0,0,0,0,0,0,0,0,null,0,1.44799744E-2,{"$f":"AH70/#REF!","v":{"$error":"#REF!"}},8.159148190274855E-2,0.17746919020000002,0.9999999876034823,0,0,0,0,0,0,0,null,null,"HELAA_sites_with_potential"]
["Garage Block off Tallents Crescent, Harpenden, AL5 5BS","UC52",9.5154796999999999E-2,9.5154796999999999E-2,0,0,0,0,0,0,0,0,0,0,0,1,0,0,0,0,0,0,0,0,0,0,0,0,0,0,0,null,0,0,{"$f":"AH71/#REF!","v":{"$error":"#REF!"}},0,0,0,9.5154796999999999E-2,1,0,0,0,0,0,null,null,"HELAA_sites_with_potential"]
["Garage block to west of 32-46 Riverside Road, St Albans, AL1 1SD","UC43",6.0495009100000004E-2,6.0495009100000004E-2,0,0,0,0,0,0,0,0,0,0,0,1,0,0,0,0,0,0,0,0,0,0,0,0,0,0,3.1468718700000002E-2,null,0.52018702316386622,5.3657602699999994E-2,{"$f":"AH72/#REF!","v":{"$error":"#REF!"}},0.88697569433045986,0,0,6.0494965300000002E-2,0.99999927597332983,0,0,0,0,0,null,null,"HELAA_sites_with_potential"]
["Garage block to front of 94-142 Riverside Road, Riverside Road, St Albans, AL1 1SE","UC18",0.14447098110000001,0.14447098110000001,0,0,0,0,0,0,0,0,0,0,0,1,0,0,0,0,0,0,0,0,0,0,0,0,0,0,0,null,0,0,{"$f":"AH73/#REF!","v":{"$error":"#REF!"}},0,0,0,0.14447098110000001,1,0,0,0,0,0,null,null,"HELAA_sites_with_potential"]
["Garage block to rear of 27-32 St Pauls Place, St Pauls Place, St Albans, AL1 4JW","UC38",0.12287622500000001,0.12287622500000001,0,0,0,0,0,0,0,0,0,0,0,1,0,0,0,0,0,0,0,0,0,0,0,0,0,0,0,null,0,4.2527489999999999E-4,{"$f":"AH74/#REF!","v":{"$error":"#REF!"}},3.4610023216452165E-3,0.12287622500000001,1,0,0,0,0,0,0,0,null,null,"HELAA_sites_with_potential"]
["Garage Block off Millford Hill, Harpenden, AL5 5BN","UC44",7.417020240000001E-2,7.417020240000001E-2,0,0,0,0,0,0,0,0,0,0,0,1,0,{"$f":"ROUND(T75,2)","v":0},{"$f":"Q75/D75","v":0},0,{"$f":"ROUND(Q75,2)","v":0},{"$f":"T75/D75","v":0},0,0,0,0,0,0,0,0,0,null,0,0,{"$f":"AH75/#REF!","v":{"$error":"#REF!"}},0,7.417020240000001E-2,1,0,0,0,0,0,0,0,null,null,"HELAA_sites_with_potential"]
["Garage Site adj. Verulam House, Verulam Road, St Albans, AL3 5EN","UC23",0.12881121840000001,0.12881121840000001,0,0,0,0,0,0,0,0,0,0,0,1,0,{"$f":"ROUND(Q76,2)","v":0},{"$f":"R76/D76","v":0},0,{"$f":"ROUND(T76,2)","v":0},{"$f":"U76/D76","v":0},0,0,0,0,0,0,0,0,6.6530299999999999E-3,null,5.1649460991357247E-2,3.8770726999999998E-2,{"$f":"AH76/#REF!","v":{"$error":"#REF!"}},0.30098874524736269,0.12881121840000001,1,0,0,0,0,0,0,0,null,null,"HELAA_sites_with_potential"]
["Garage Block off Cotlandswick, London Colney, AL2 1ED","UC17",0.11367664070000001,0.11367664070000001,0,0,0,0,0,0,0,0,0,0,0,1,0,0,0,0,0,0,0,0,0,0,0,0,0,0,1.11939455E-2,null,9.8471818229934713E-2,6.5364530399999995E-2,{"$f":"AH77/#REF!","v":{"$error":"#REF!"}},0.57500406413751448,0,0,2.6342798399999999E-2,0.2317344903736234,8.73338429E-2,0.76826551490450568,0,0,0.76826551490450568,null,null,"HELAA_sites_with_potential"]
["Garages off Creighton Avenue, St Albans, AL1 2LZ","UC31",0.1398521539,0.1398521539,0,0,0,0,0,0,0,0,0,0,0,1,0,0,0,0,0,0,0,0,0,0,0,0,0,0,0.02,null,0.14300816571120398,5.1427553100000002E-2,{"$f":"AH78/#REF!","v":{"$error":"#REF!"}},0.36772800179232706,0.1398521539,1,0,0,0,0,0,0,0,null,null,"HELAA_sites_with_potential"]
["Garages off Watling View (West), St Albans, AL1 2PA","UC45",0.1074331982,0.1074331982,0,0,0,0,0,0,0,0,0,0,0,1,0,0,0,0,0,0,0,0,0,0,0,0,0,0,0,null,0,3.02830355E-2,{"$f":"AH79/#REF!","v":{"$error":"#REF!"}},0.28187781809887513,0.1074331982,1,0,0,0,0,0,0,0,null,null,"HELAA_sites_with_potential"]
["Garages Between Abbotts Avenue West and Abbey Line, St Albans, AL1 2JH","UC30",0.1443696475,0.1443696475,0,0,0,0,0,0,0,0,0,0,0,1,0,0,0,0,0,0,0,0,0,0,0,0,0,0,0,null,0,5.8931341E-3,{"$f":"AH80/#REF!","v":{"$error":"#REF!"}},4.0819758183589107E-2,0.1443696475,1,0,0,0,0,0,0,0,null,null,"HELAA_sites_with_potential"]
["Garages off Thirlmere Drive, St Albans, AL1 5QS","UC42",0.13766452430000001,0.13766452430000001,0,0,0,0,0,0,0,0,0,0,0,1,0,0,0,0,0,0,0,0,0,0,0,0,0,0,0,null,0,8.7594799999999998E-4,{"$f":"AH81/#REF!","v":{"$error":"#REF!"}},6.3629174215655204E-3,0,0,0,0,0,0,0,0,0,null,null,"HELAA_sites_with_potential"]
["Garage Block off Noke Shot, Harpenden, AL5 5HS","UC29",0.16106342509999999,0.16106342509999999,0,0,0,0,0,0,0,0,0,0,0,1,0,0,0,0,0,0,0,0,0,0,0,0,0,0,0,null,0,0,{"$f":"AH82/#REF!","v":{"$error":"#REF!"}},0,0.16106342509999999,1,0,0,0,0,0,0,0,null,null,"HELAA_sites_with_potential"]
["Land Rear of 53 Snatchup, Redbourn, AL3 7HF","UC33",0.1641322395,0.1641322395,0,0,0,0,0,0,0,0,0,0,0,1,0,0,0,0,0,0,0,0,0,0,0,0,0,0,0,null,0,4.3390859999999998E-4,{"$f":"AH83/#REF!","v":{"$error":"#REF!"}},2.6436524678017325E-3,0,0,0.1641322395,1,0,0,0,0,0,null,null,"HELAA_sites_with_potential"]
["Garage Block to Malvern Close, St Albans, AL4 9SZ","UC26",0.132368438,0.132368438,0,0,0,0,0,0,0,0,0,0,0,1,0,0,0,0,0,0,0,0,0,0,0,0,0,0,0,null,0,0,{"$f":"AH84/#REF!","v":{"$error":"#REF!"}},0,0,0,0,0,0.132368438,1,0,0,1,null,null,"HELAA_sites_with_potential"]
["Garages off Chapel Place, St Albans, AL1 2JZ","UC21",0.22822260030000002,0.22822260030000002,0,0,0,0,0,0,0,0,0,0,0,1,0,0,0,0,0,0,0,0,0,0,0,0,0,0,0,null,0,5.0622842999999999E-3,{"$f":"AH85/#REF!","v":{"$error":"#REF!"}},2.2181345288966106E-2,0.22822260030000002,1,0,0,0,0,0,0,0,null,null,"HELAA_sites_with_potential"]
["Garages at Grindcobbe, St Albans, AL1 2ED","UC41",0.1204110515,0.1204110515,0,0,0,0,0,0,0,0,0,0,0,1,0,0,0,0,0,0,0,0,0,0,0,0,0,0,6.5626745999999994E-3,null,5.4502261364273524E-2,1.8095132600000001E-2,{"$f":"AH86/#REF!","v":{"$error":"#REF!"}},0.15027800500521332,0,0,0.1204110515,1,0,0,0,0,0,null,null,"HELAA_sites_with_potential"]
["Garages Rear of Hill End Lane (South), St Albans, AL4 0AE","UC34",0.18585152639999999,0.18585152639999999,0,0,0,0,0,0,0,0,0,0,0,1,0,0,0,0,0,0,0,0,0,0,0,0,0,0,0,null,0,1.74370844E-2,{"$f":"AH87/#REF!","v":{"$error":"#REF!"}},9.3822659075023879E-2,0,0,0,0,0,0,0,0,0,null,null,"HELAA_sites_with_potential"]
["Garages Rear of Hill End Lane (North), St Albans, AL4 0AE","UC24",0.20767035420000002,0.20767035420000002,0,0,0,0,0,0,0,0,0,0,0,1,0,0,0,0,0,0,0,0,0,0,0,0,6.0184083499999999E-2,0.28980584990979896,8.512732549999999E-2,null,0.40991563686561083,0.12714532650000002,{"$f":"AH88/#REF!","v":{"$error":"#REF!"}},0.61224591728461553,0,0,0,0,0,0,0,0,0,null,null,"HELAA_sites_with_potential"]
["Garages rear of Tudor Road, St Albans, AL3 6AY","UC31",0.17145767279999999,0.17145767279999999,0,0,0,0,0,0,0,0,0,0,0,1,0,0,0,0,0,0,0,0,0,0,0,0,0,0,0,null,0,0,{"$f":"AH89/#REF!","v":{"$error":"#REF!"}},0,0.17145767279999999,1,0,0,0,0,0,0,0,null,null,"HELAA_sites_with_potential"]
["Garages off Park Street Lane, Park Street, AL2 2ND","UC36",0.1286785731,0.1286785731,0,0,0,0,0,0,0,0,0,0,0,1,0,0,0,0,0,0,0,0,0,0,0,0,0,0,2.5719679000000002E-2,null,0.19987538236076385,5.5665206599999996E-2,{"$f":"AH90/#REF!","v":{"$error":"#REF!"}},0.43259110867464223,0,0,0.1286785731,1,0,0,0,0,0,null,null,"HELAA_sites_with_potential"]
["Garage Block rear of 18-30 Furse Avenue, St Albans, AL4 9NE","UC49",0.11884360429999999,0.11884360429999999,0,0,0,0,0,0,0,0,0,0,0,1,0,0,0,0,0,0,0,0,0,0,0,0,0,0,0,null,0,1.1585620000000001E-4,{"$f":"AH91/#REF!","v":{"$error":"#REF!"}},9.7486272553246706E-4,0,0,0,0,0.11884360429999999,1,0,0,1,null,null,"HELAA_sites_with_potential"]
["Garages off Watling View (East), St Albans, AL1 2NT","UC37",0.13783710909999999,0.13783710909999999,0,0,0,0,0,0,0,0,0,0,0,1,0,0,0,0,0,0,0,0,0,0,0,0,0,0,0,null,0,2.08440862E-2,{"$f":"AH92/#REF!","v":{"$error":"#REF!"}},0.15122260134516999,0.1378371669,1.0000004193355503,0,0,0,0,0,0,0,null,null,"HELAA_sites_with_potential"]
["Car Park to rear of 77-101 Hatfield Road, Hatfield Road, St Albans, AL1 4JL","UC22",0.1010167572,0.1010167572,0,0,0,0,0,0,0,0,0,0,0,1,0,0,0,0,0,0,0,0,0,0,0,0,0,0,0,null,0,8.2011100000000005E-5,{"$f":"AH93/#REF!","v":{"$error":"#REF!"}},8.1185639168389388E-4,0.1010167572,1,0,0,0,0,0,0,0,null,null,"HELAA_sites_with_potential"]
["Bowers Way East Car Park Bowers Way, Harpenden, AL5 4EQ","UC15",0.41392472520000001,0.41392472520000001,0,0,0,0,0,0,0,0,0,0,0,1,0,0,0,0,0,0,0,0,0,0,0,0,0,0,0,null,0,0,{"$f":"AH94/#REF!","v":{"$error":"#REF!"}},0,0.41392472520000001,1,0,0,0,0,0,0,0,null,null,"HELAA_sites_with_potential"]
["Civic Close Car Park Bricket Road, St Albans, AL1 3JX","UC2",0.45338594320000003,0.45338594320000003,0,0,0,0,0,0,0,0,0,0,0,1,0,0,0,0,0,0,0,0,0,0,0,0,0,0,0,null,0,9.6138273000000007E-3,{"$f":"AH95/#REF!","v":{"$error":"#REF!"}},2.1204511176825563E-2,0.45338594320000003,1,0,0,0,0,0,0,0,null,null,"HELAA_sites_with_potential"]
["Market Depot, Drovers Way, St Albans, AL3 5FA","UC35",7.2749196099999996E-2,7.2749196099999996E-2,0,0,0,0,0,0,0,0,0,0,0,1,0,0,0,0,0,0,0,0,0,0,0,0,2.03841E-5,2.8019691065699629E-4,2.03841E-5,null,2.8019691065699629E-4,3.1021880000000002E-4,{"$f":"AH96/#REF!","v":{"$error":"#REF!"}},4.2642230654147397E-3,7.2749196099999996E-2,1,0,0,0,0,0,0,0,null,null,"HELAA_sites_with_potential"]
["Keyfield Terrace Car Park, Keyfield Terrace, St Albans, AL1 1PD","UC9",0.24795260990000001,0.24795260990000001,0,0,0,0,0,0,0,0,0,0,0,1,0,0,0,0,0,0,0,0,0,0,0,0,0,{"$f":"AC97/D97","v":0},6.8857599999999996E-5,null,{"$f":"AE97/D97","v":2.7770467924403161E-4},4.6681650000000002E-3,{"$f":"AH97/#REF!","v":{"$error":"#REF!"}},{"$f":"AH97/D97","v":1.8826843572578987E-2},0.1985074798,{"$f":"(AK97/D97)","v":0.80058636962949747},4.9445081099999996E-2,{"$f":"(AM97/D97)","v":0.19941343275209458},0,{"$f":"(AO97/D97)","v":0},0,{"$f":"(AQ97/D97)","v":0},0,null,null,"HELAA_sites_with_potential"]
["Public Hall, 6 Southdown Road, Harpenden, AL5 1TE","UC8",0.263656473,0.263656473,0,0,0,0,0,0,0,0,0,0,0,1,0,0,0,0,0,0,0,0,0,0,0,0,1.8893203600000002E-2,7.1658409843023282E-2,4.2809048100000004E-2,null,0.16236676313272233,0.10243043509999999,{"$f":"AH98/#REF!","v":{"$error":"#REF!"}},0.38849960304217523,0,0,0.263656473,1,0,0,0,0,0,null,null,"HELAA_sites_with_potential"]
["Car Park adjacent to Verulam House, Verulam Road, St Albans, AL3 5EN","UC13",0.22167439359999999,0.22167439359999999,0,0,0,0,0,0,0,0,0,0,0,1,0,0,0,0,0,0,0,0,0,0,0,0,0,0,0,null,0,1.6064357599999999E-2,{"$f":"AH99/#REF!","v":{"$error":"#REF!"}},7.2468260041740784E-2,0.22167439359999999,1,0,0,0,0,0,0,0,null,null,"HELAA_sites_with_potential"]
["London Road Car Park, London Road, St Albans, AL1 1NG","UC3",0.57283074189999994,0.57283074189999994,0,0,0,0,0,0,0,0,0,0,0,1,0,0,0,0,0,0,0,0,0,0,0,0,0,0,0,null,0,0,{"$f":"AH100/#REF!","v":{"$error":"#REF!"}},0,0.57283074189999994,1,0,0,0,0,0,0,0,null,null,"HELAA_sites_with_potential"]
["Southview Car Park, Lower Luton Road, Harpenden, AL5 5AW","UC10",9.71849875E-2,9.71849875E-2,0,0,0,0,0,0,0,0,0,0,0,1,0,0,0,0,0,0,0,0,1.4135473400000001E-2,0.1454491456306459,0,0,0,0,0,null,0,5.6634719999999999E-4,{"$f":"AH101/#REF!","v":{"$error":"#REF!"}},5.8275173416058729E-3,0,0,9.71849875E-2,1,0,0,0,0,0,null,null,"HELAA_sites_with_potential"]
["Sainsbury’s Supermarket, Everard Close, St Albans AL1 2QU","UC1",2.4465108421999999,2.4465108421999999,0,0,0,0,0,0,0,0,0,0,0,1,0,0,0,0,0,0,0,0,0,0,0,0,1.2E-2,4.9049445410219899E-3,5.2043316500000006E-2,null,2.1272465096946223E-2,0.14624511210000002,{"$f":"AH102/#REF!","v":{"$error":"#REF!"}},5.9777013687170331E-2,0,0,2.4465108421999999,1,0,0,0,0,0,null,null,"HELAA_sites_with_potential"]
["New Greens Residents Association, 2 High Oaks, St Albans, AL3 6DL","UC28",0.20495811850000001,0.20495811850000001,0,0,0,0,0,0,0,0,0,0,0,1,0,0,0,0,0,0,0,0,0,0,0,0,0,0,0,null,0,1.2E-2,{"$f":"AH103/#REF!","v":{"$error":"#REF!"}},5.8548546833971836E-2,0.14909450830000001,0.72743890015754609,0,0,0,0,0,0,0,null,null,"HELAA_sites_with_potential"]

{"sheet":"Sites","index":3,"n_rows":103,"n_cols":13,"rows_kept":103,"cut":false,"hidden":false,"merged":[]}
["Site_code","Site_name","Area_ha","Settlement","Parish","Proposed use","Former use","Deliverabilty","Core Strategy Spatial Policy Area","FrismID *","Shape_Area_m2","Shape_Area_Ha","Shapefile"]
["OS2"," Toulmin Drive/Highelms, St Albans, AL3 6DX",0.19338197679999999,null,null,"Community Facility ",null,"Not developable within the next 15 years",null,"F-1",1933.8197680000001,{"$f":"K2/10000","v":0.19338197679999999},"HELAA_Sites_Not_Deliverable"]
["OS1","Land to the North of Bricket Wood, bounded by the M25 and A405 North Orbital",6.5233111778000001,null,null,"Community Facilites",null,"Not developable within the next 15 years",null,"F-2",65233.111777999999,6.5233111778000001,"HELAA_Sites_Not_Deliverable"]
["B3"," West Redbourn, Redbourne, AL3 7HZ",27.017108829500003,null,null,"Residential",null,"Not developable within the next 15 years",null,"F-4",270171.08829500002,27.017108829500003,"HELAA_Sites_Not_Deliverable"]
["H3","East Hemel Hempstead (Central), HP2 7LF",143.67959622949999,null,null,"Employment Led Mixed Use (Enterprise Zone)",null,"Potentially developable in part",null,"F-5",1436795.962295,143.67959622949999,"HELAA_sites_with_potential"]
["H4","East Hemel Hempstead (South), HP2 4PA4",57.420126058600005,null,null,"Residential",null,"Potentially developable in part",null,"F-103",574201.26058600005,57.420126058600005,"HELAA_sites_with_potential"]
["M25"," Baulk Close, Harpenden, AL5 4LY",0.55562100680000004,null,null,"Residential",null,"Not developable within the next 15 years",null,"F-6",5556.2100680000003,0.55562100680000004,"HELAA_Sites_Not_Deliverable"]
["M6 "," South of Harpenden Lane, Redbourn, AL3 7RQ",12.564116203899999,null,null,"Residential",null,"Potentially developable",null,"F-7",125641.162039,12.564116203899999,"HELAA_sites_with_potential"]
["M16"," Falconers Field, Harpenden, AL5 3ES",1.1580997708,null,null,"Residential",null,"Potentially developable in part",null,"F-8",11580.997708000001,1.1580997708,"HELAA_sites_with_potential"]
["M7","Townsend Lane, Harpenden, AL5 2RH",1.8828156492999999,null,null,"Residential",null,"Potentially developable",null,"F-9",18828.156492999999,1.8828156492999999,"HELAA_sites_with_potential"]
["M22","Wood End, Hatching Green, Harpenden, AL5 2JT",0.76808437540000007,null,null,"Residential",null,"Not developable within the next 15 years",null,"F-10",7680.8437540000004,0.76808437540000007,"HELAA_Sites_Not_Deliverable"]
["M21","Rothamsted Lodge, Hatching Green, AL5 2GT",1.9297748954999998,null,null,"Residential",null,"Not developable within the next 15 years",null,"F-11",19297.748954999999,1.9297748954999998,"HELAA_Sites_Not_Deliverable"]
["M1 a","Cross Lane, Harpenden, AL5 1BX",6.4710480763999998,null,null,"Residential",null,"Not developable within the next 15 years",null,"F-12",64710.480764,6.4710480763999998,"HELAA_Sites_Not_Deliverable"]
["M5","Sewage Treatment Works, Piggottshill Lane, Harpenden, AL5 5UN",4.0995472989000001,null,null,"Residential",null,"Not developable within the next 15 years",null,"F-13",40995.472989000002,4.0995472989000001,"HELAA_Sites_Not_Deliverable"]
["M19","Piggotshill Lane, Harpenden, AL5 5UN",0.86301046580000007,null,null,"Residential",null,"Not developable within the next 15 years",null,"F-14",8630.1046580000002,0.86301046580000007,"HELAA_Sites_Not_Deliverable"]
["M24","South of Codicote Road, Wheathampstead, AL4 8GD",1.0039526531,null,null,"Residential",null,"Potentially developable",null,"F-15",10039.526531,1.0039526531,"HELAA_sites_with_potential"]
["M2","Hill Dyke Road, Wheathampstead, AL4 8TR",3.5538439838999998,null,null,"Residential",null,"Not developable within the next 15 years",null,"F-16",35538.439838999999,3.5538439838999998,"HELAA_Sites_Not_Deliverable"]
["M26","Highway Chipping Depot, Lower Luton Roa, AL4 8JJ",0.33922200889999998,null,null,"Residential",null,"Potentially developable",null,"F-17",3392.2200889999999,0.33922200889999998,"HELAA_sites_with_potential"]
["M17","North of Wheathampstead Road, Harpenden, AL5 1 Ab",2.2588565012999999,null,null,"Residential",null,"Not developable within the next 15 years",null,"F-18",22588.565012999999,2.2588565012999999,"HELAA_Sites_Not_Deliverable"]
["M20","Lower Luton Road, Harpenden, AL5 5AF",0.73588067130000001,null,null,"Residential",null,"Potentially developable in part",null,"F-19",7358.8067129999999,0.73588067130000001,"HELAA_sites_with_potential"]
["M4","North of Oakwood Road, Bricket Wood, AL2 3PT",3.0680694603999998,null,null,"Residential",null,"Not developable within the next 15 years",null,"F-20",30680.694604,3.0680694603999998,"HELAA_Sites_Not_Deliverable"]
["M15","Bucknalls Drive, Bricket Wood, AL2 3YT",1.2758420158000001,null,null,"Residential",null,"Potentially developable",null,"F-21",12758.420158000001,1.2758420158000001,"HELAA_sites_with_potential"]
["M1","East and West of Miriam Lane, Chiswell Green, AL2 3NY ",4.0764700624999994,null,null,"Residential",null,"Potentially developable",null,"F-22",40764.700624999998,4.0764700624999994,"HELAA_sites_with_potential"]
["M3","Bedmond Lane, St Albans, AL3 4AH",5.8355313460999998,null,null,"Residential",null,"Potentially developable",null,"F-23",58355.313460999998,5.8355313460999998,"HELAA_sites_with_potential"]
["M10","Tippendell Lane and Orchard Drive, How Wood, AL2 2HJ",2.3194843134999998,null,null,"Residential",null,"Potentially developable",null,"F-24",23194.843134999999,2.3194843134999998,"HELAA_sites_with_potential"]
["L2","West of Watling Street, Park Street, AL2 2PZ",4.3267615155000003,null,null,"Residential",null,"Not developable within the next 15 years",null,"F-25",43267.615155,4.3267615155000003,"HELAA_Sites_Not_Deliverable"]
["M27","Frogmore Vicarage, Frogmore, AL2 2JU",1.0607514749,null,null,"Residential",null,"Not developable within the next 15 years",null,"F-26",10607.514749,1.0607514749,"HELAA_Sites_Not_Deliverable"]
["M13","North of Boissy Close, Colney Heath, AL4 0UE",1.4346951383,null,null,"Residential",null,"Not developable within the next 15 years",null,"F-27",14346.951383,1.4346951383,"HELAA_Sites_Not_Deliverable"]
["B5","Glinwell, Hatfield Road, St Albans, AL4 0HE",20.8470974994,null,null,"Residential",null,"Potentially developable in part",null,"F-28",208470.97499399999,20.8470974994,"HELAA_sites_with_potential"]
["M18","East of Kay Walk, St Albans, AL4 0XH",3.3411318420000002,null,null,"Residential",null,"Not developable within the next 15 years",null,"F-29",33411.318420000003,3.3411318420000002,"HELAA_Sites_Not_Deliverable"]
["L1","Burston Nurseriess, North Orbital Road, St albans, AL2 2DS",14.327254876899998,null,null,"Residential",null,"Not developable within the next 15 years",null,"F-30",143272.54876899999,14.327254876899998,"HELAA_Sites_Not_Deliverable"]
["B6"," West of London Colney, AL2 1LN",13.5046065704,null,null,"Residential",null,"Potentially developable in part",null,"F-31",135046.06570400001,13.5046065704,"HELAA_sites_with_potential"]
["B8","Harper Lane, north of Radlett, WD7 7HU",11.4012446846,null,null,"Residential",null,"Potentially developable in part",null,"F-32",114012.44684600001,11.4012446846,"HELAA_sites_with_potential"]
["M8","Verulam Golf Club, St Albans, AL1 1JG",2.7979560754999997,null,null,"Residential",null,"Potentially developable",null,"F-33",27979.560754999999,2.7979560754999997,"HELAA_sites_with_potential"]
["B7","North West Harpenden, AL5 3NP",12.188416180000001,null,null,"Residential",null,"Potentially developable in part",null,"F-34",121884.1618,12.188416180000001,"HELAA_sites_with_potential"]
["M14","Beesonend Lane, Harpenden, AL5 2AB",2.0297519310999999,null,null,"Residential",null,"Potentially developable in part",null,"F-35",20297.519311,2.0297519310999999,"HELAA_sites_with_potential"]
["M9","Amwell Top Field, Wheathampstead, AL4 8DZ",4.2666477615999998,null,null,"Residential",null,"Not developable within the next 15 years",null,"F-36",42666.477615999996,4.2666477615999998,"HELAA_Sites_Not_Deliverable"]
["M12","North of The Slype, Gustard Wood, AL4 8SA",4.2411204833000005,null,null,"Residential",null,"Potentially developable",null,"F-37",42411.204833000003,4.2411204833000005,"HELAA_sites_with_potential"]
["H1","North Hemel Hempstead, AL3 7AU",88.834999632700004,null,null,"Residential",null,"Potentially developable in part",null,"F-38",888349.99632699997,88.834999632700004,"HELAA_sites_with_potential"]
["H2 ","East Hemel Hempstead (North), HP2 7HT",169.37634958429999,null,null,"Residential",null,"Potentially developable in part",null,"F-39",1693763.495843,169.37634958429999,"HELAA_sites_with_potential"]
["B2","North East Harpenden, AL5 5EG",43.237137070599999,null,null,"Residential",null,"Not developable within the next 15 years",null,"F-40",432371.37070600002,43.237137070599999,"HELAA_Sites_Not_Deliverable"]
["P1","Smallford Works, Smallford Lane, AL4 0SA",3.3350426756,null,null,"Residential",null,"Not developable within the next 15 years",null,"F-41",33350.426756000001,3.3350426756,"HELAA_Sites_Not_Deliverable"]
["P2","Land at North Orbital Road, AL2 1DL",1.8820350386999998,null,null,"Residential",null,"Potentially developable",null,"F-42",18820.350386999999,1.8820350386999998,"HELAA_sites_with_potential"]
["M11","Rothamsted Research, Harpenden Campus, AL5 2JQ",1.6179728553000001,null,null,"Residential",null,"Not developable within the next 15 years",null,"F-43",16179.728553000001,1.6179728553000001,"HELAA_Sites_Not_Deliverable"]
["B1","North St Albans, AL3 6DD",46.748278584700003,null,null,"Residential",null,"Not developable within the next 15 years",null,"F-44",467482.78584700002,46.748278584700003,"HELAA_Sites_Not_Deliverable"]
["B4","East St Albans, AL4 9JJ",21.686293457400001,null,null,"Residential",null,"Potentially developable",null,"F-45",216862.93457400001,21.686293457400001,"HELAA_sites_with_potential"]
["M23","Ashdale Lye Lane, Bricket Wood, AL2 3LQ",2.2564923885999999,null,null,"Residential",null,"Not developable within the next 15 years",null,"F-46",22564.923886,2.2564923885999999,"HELAA_Sites_Not_Deliverable"]
["U2","Land South West of London Colney Allotments, AL2 1RG",0.66237597879999999,null,null,"Residential",null,"Not developable within the next 15 years",null,"F-47",6623.7597880000003,0.66237597879999999,"HELAA_Sites_Not_Deliverable"]
["U3","Former Bricket Wood United Reformed Church, AL2 3QR",0.17254536740000001,null,null,"Residential",null,"Potentially developable in part",null,"F-48",1725.4536740000001,0.17254536740000001,"HELAA_sites_with_potential"]
["U4","Greenwood United Reformed Church AL2 3HG",0.47010906919999995,null,null,"Residential",null,"Not developable within the next 15 years",null,"F-49",4701.0906919999998,0.47010906919999995,"HELAA_Sites_Not_Deliverable"]
["U1","East of Morris Recreation Ground, adjacent to A1081 and White Horse Lane",1.3203274493000001,null,null,"Residential",null,"Not developable within the next 15 years",null,"F-50",13203.274493000001,1.3203274493000001,"HELAA_Sites_Not_Deliverable"]
["UC48","Car Park adj. to 42-46 Adelaide Street, St Albans, AL3 5BH",5.16856168E-2,null,null,"Residential",null,"Potentially developable in part",null,"F-51",516.85616800000003,5.16856168E-2,"HELAA_sites_with_potential"]
["UC11","50 Victoria Street St Albans, AL1 3HZ",0.13987537450000001,null,null,"Residential",null,"Not developable within the next 15 years",null,"F-52",1398.753745,0.13987537450000001,"HELAA_Sites_Not_Deliverable"]
["UC19","54 Lemsford Road St Albans, AL1 3PR",0.35317474539999999,null,null,"Residential",null,"Not developable within the next 15 years",null,"F-53",3531.7474539999998,0.35317474539999999,"HELAA_Sites_Not_Deliverable"]
["UC20","104 High Street London Colney, AL2 1QL",0.26852970059999998,null,null,"Residential",null,"Not developable within the next 15 years",null,"F-54",2685.2970059999998,0.26852970059999998,"HELAA_Sites_Not_Deliverable"]
["UC5","18- 20 Catherine Street St Albans, AL3 5BY",0.42746397829999994,null,null,"Residential",null,"Not developable within the next 15 years",null,"F-55",4274.6397829999996,0.42746397829999994,"HELAA_Sites_Not_Deliverable"]
["UC6","13-19 Sutton Road & 5-11a Pickford Road St Albans, AL1 5JH",0.3244836847,null,null,"Residential",null,"Not developable within the next 15 years",null,"F-56",3244.836847,0.3244836847,"HELAA_Sites_Not_Deliverable"]
["UC46","Garage Blocks adj. to 76 Oakley Road and 151 Grove Road, Harpenden, AL5 1HJ",0.11725040739999999,null,null,"Residential",null,"Not developable within the next 15 years",null,"F-57",1172.5040739999999,0.11725040739999999,"HELAA_Sites_Not_Deliverable"]
["UC47","Crabtree Fields / Land at Waldegrave Park, Harpenden, AL5 5SA",0.87669037970000008,null,null,"Residential",null,"Potentially developable",null,"F-58",8766.9037970000008,0.87669037970000008,"HELAA_sites_with_potential"]
["UC40","Land Rear of New House Park Shops, St Albans, AL1 1UJ",0.1180911462,null,null,"Residential",null,"Not developable within the next 15 years",null,"F-59",1180.911462,0.1180911462,"HELAA_Sites_Not_Deliverable"]
["UC4","Car Park to rear of 32-34 Upper Marlborough Road, St Albans, AL1 3 UU",0.22186474469999998,null,null,"Residential",null,"Potentially developable in part",null,"F-60",2218.6474469999998,0.22186474469999998,"HELAA_sites_with_potential"]
["UC25","318 Watford Road, Chiswell Green, AL2 3DP",0.19299448799999999,null,null,"Residential",null,"Not developable within the next 15 years",null,"F-61",1929.94488,0.19299448799999999,"HELAA_Sites_Not_Deliverable"]
["UC10","Garage Block rear of 109-179 Hughenden Road, St Albans, AL4 9QW",0.2707832745,null,null,"Residential",null,"Not developable within the next 15 years",null,"F-62",2707.8327450000002,0.2707832745,"HELAA_Sites_Not_Deliverable"]
["UC12","Garage Block Between Hughenden Road and The Ridgeway, St Albans, AL4 9RH",0.22188063129999999,null,null,"Residential",null,"Potentially developable in part",null,"F-63",2218.806313,0.22188063129999999,"HELAA_sites_with_potential"]
["UC14","Car Park to rear of 3 Church Green (Waitrose), Harpenden, AL5 2TJ",0.33669957030000003,null,null,"Residential",null,"Potentially developable",null,"F-64",3366.995703,{"$f":"K65/10000","v":0.33669957030000003},"HELAA_sites_with_potential"]
["UC7","5 Spencer Street, St Albans, AL3 5EH",0.18590777889999999,null,null,"Residential",null,"Potentially developable",null,"F-65",1859.0777889999999,0.18590777889999999,"HELAA_sites_with_potential"]
["UC51","Garage Block to south of Abbots Park Abbots Park, St Albans, AL1 1TW",5.6391443499999999E-2,null,null,"Residential",null,"Not developable within the next 15 years",null,"F-66",563.91443500000003,5.6391443499999999E-2,"HELAA_Sites_Not_Deliverable"]
["UC27","Berkeley House, Barnet Road, London Colney, AL2 1BG",0.14452927729999998,null,null,"Residential",null,"Not developable within the next 15 years",null,"F-67",1445.2927729999999,0.14452927729999998,"HELAA_Sites_Not_Deliverable"]
["UC39","Garage Block to east of 8 Heath Close, Harpenden, AL5 1QN",0.12762842330000002,null,null,"Residential",null,"Not developable within the next 15 years",null,"F-68",1276.2842330000001,0.12762842330000002,"HELAA_Sites_Not_Deliverable"]
["UC16","Garage Block west of Thirlestane, St Albans, AL1 3PE",0.1774691924,null,null,"Residential",null,"Deliverable (Years 1-5)",null,"F-69",1774.691924,0.1774691924,"HELAA_sites_with_potential"]
["UC52","Garage Block off Tallents Crescent, Harpenden, AL5 5BS",9.5154796999999999E-2,null,null,"Residential",null,"Not developable within the next 15 years",null,"F-70",951.54796999999996,9.5154796999999999E-2,"HELAA_Sites_Not_Deliverable"]
["UC43","Garage block to west of 32-46 Riverside Road, St Albans, AL1 1SD",6.0495009100000004E-2,null,null,"Residential",null,"Not developable within the next 15 years",null,"F-71",604.95009100000004,6.0495009100000004E-2,"HELAA_Sites_Not_Deliverable"]
["UC18","Garage block to front of 94-142 Riverside Road, Riverside Road, St Albans, AL1 1SE",0.14447098110000001,null,null,"Residential",null,"Not developable within the next 15 years",null,"F-72",1444.7098109999999,0.14447098110000001,"HELAA_Sites_Not_Deliverable"]
["UC38","Garage block to rear of 27-32 St Pauls Place, St Pauls Place, St Albans, AL1 4JW",0.12287622500000001,null,null,"Residential",null,"Not developable within the next 15 years",null,"F-73",1228.76225,0.12287622500000001,"HELAA_Sites_Not_Deliverable"]
["UC44","Garage Block off Millford Hill, Harpenden, AL5 5BN",7.417020240000001E-2,null,null,"Residential",null,"Potentially developable in part",null,"F-74",741.70202400000005,7.417020240000001E-2,"HELAA_sites_with_potential"]
["UC23","Garage Site adj. Verulam House, Verulam Road, St Albans, AL3 5EN",0.12881121840000001,null,null,"Residential",null,"Not developable within the next 15 years",null,"F-75",1288.1121840000001,0.12881121840000001,"HELAA_Sites_Not_Deliverable"]
["UC17","Garage Block off Cotlandswick, London Colney, AL2 1ED",0.11367664070000001,null,null,"Residential",null,"Not developable within the next 15 years",null,"F-76",1136.7664070000001,0.11367664070000001,"HELAA_Sites_Not_Deliverable"]
["UC31","Garages off Creighton Avenue, St Albans, AL1 2LZ",0.1398521539,null,null,"Residential",null,"Potentially developable in part",null,"F-77",1398.5215390000001,0.1398521539,"HELAA_sites_with_potential"]
["UC45","Garages off Watling View (West), St Albans, AL1 2PA",0.1074331982,null,null,"Residential",null,"Not developable within the next 15 years",null,"F-78",1074.3319819999999,0.1074331982,"HELAA_Sites_Not_Deliverable"]
["UC30","Garages Between Abbotts Avenue West and Abbey Line, St Albans, AL1 2JH",0.1443696475,null,null,"Residential",null,"Not developable within the next 15 years",null,"F-79",1443.696475,0.1443696475,"HELAA_Sites_Not_Deliverable"]
["UC42","Garages off Thirlmere Drive, St Albans, AL1 5QS",0.13766452430000001,null,null,"Residential",null,"Not developable within the next 15 years",null,"F-80",1376.6452429999999,0.13766452430000001,"HELAA_Sites_Not_Deliverable"]
["UC29","Garage Block off Noke Shot, Harpenden, AL5 5HS",0.16106342509999999,null,null,"Residential",null,"Not developable within the next 15 years",null,"F-81",1610.6342509999999,0.16106342509999999,"HELAA_Sites_Not_Deliverable"]
["UC33","Land Rear of 53 Snatchup, Redbourn, AL3 7HF",0.1641322395,null,null,"Residential",null,"Not developable within the next 15 years",null,"F-82",1641.3223949999999,0.1641322395,"HELAA_Sites_Not_Deliverable"]
["UC26","Garage Block to Malvern Close, St Albans, AL4 9SZ",0.132368438,null,null,"Residential",null,"Not developable within the next 15 years",null,"F-83",1323.6843799999999,0.132368438,"HELAA_Sites_Not_Deliverable"]
["UC21","Garages off Chapel Place, St Albans, AL1 2JZ",0.22822260030000002,null,null,"Residential",null,"Not developable within the next 15 years",null,"F-84",2282.2260030000002,0.22822260030000002,"HELAA_Sites_Not_Deliverable"]
["UC41","Garages at Grindcobbe, St Albans, AL1 2ED",0.1204110515,null,null,"Residential",null,"Not developable within the next 15 years",null,"F-85",1204.1105150000001,0.1204110515,"HELAA_Sites_Not_Deliverable"]
["UC34","Garages Rear of Hill End Lane (South), St Albans, AL4 0AE",0.18585152639999999,null,null,"Residential",null,"Not developable within the next 15 years",null,"F-86",1858.5152639999999,0.18585152639999999,"HELAA_Sites_Not_Deliverable"]
["UC24","Garages Rear of Hill End Lane (North), St Albans, AL4 0AE",0.20767035420000002,null,null,"Residential",null,"Not developable within the next 15 years",null,"F-87",2076.7035420000002,0.20767035420000002,"HELAA_Sites_Not_Deliverable"]
["UC31","Garages rear of Tudor Road, St Albans, AL3 6AY",0.17145767279999999,null,null,"Residential",null,"Not developable within the next 15 years",null,"F-88",1714.576728,0.17145767279999999,"HELAA_Sites_Not_Deliverable"]
["UC36","Garages off Park Street Lane, Park Street, AL2 2ND",0.1286785731,null,null,"Residential",null,"Not developable within the next 15 years",null,"F-89",1286.7857309999999,0.1286785731,"HELAA_Sites_Not_Deliverable"]
["UC49","Garage Block rear of 18-30 Furse Avenue, St Albans, AL4 9NE",0.11884360429999999,null,null,"Residential",null,"Potentially developable in part",null,"F-90",1188.4360429999999,0.11884360429999999,"HELAA_sites_with_potential"]
["UC37","Garages off Watling View (East), St Albans, AL1 2NT",0.13783710909999999,null,null,"Residential",null,"Not developable within the next 15 years",null,"F-91",1378.371091,0.13783710909999999,"HELAA_Sites_Not_Deliverable"]
["UC22","Car Park to rear of 77-101 Hatfield Road, Hatfield Road, St Albans, AL1 4JL",0.1010167572,null,null,"Residential",null,"Not developable within the next 15 years",null,"F-92",1010.167572,0.1010167572,"HELAA_Sites_Not_Deliverable"]
["UC15","Bowers Way East Car Park Bowers Way, Harpenden, AL5 4EQ",0.41392472520000001,null,null,"Residential",null,"Not developable within the next 15 years",null,"F-93",4139.2472520000001,0.41392472520000001,"HELAA_Sites_Not_Deliverable"]
["UC2","Civic Close Car Park Bricket Road, St Albans, AL1 3JX",0.45338594320000003,null,null,"Residential",null,"Deliverable (Years 1-5)",null,"F-94",4533.8594320000002,0.45338594320000003,"HELAA_sites_with_potential"]
["UC35","Market Depot, Drovers Way, St Albans, AL3 5FA",7.2749196099999996E-2,null,null,"Residential",null,"Not developable within the next 15 years",null,"F-95",727.49196099999995,7.2749196099999996E-2,"HELAA_Sites_Not_Deliverable"]
["UC9","Keyfield Terrace Car Park, Keyfield Terrace, St Albans, AL1 1PD",0.24795260990000001,null,null,"Residential",null,"Not developable within the next 15 years",null,"F-96",2479.5260990000002,0.24795260990000001,"HELAA_Sites_Not_Deliverable"]
["UC8","Public Hall, 6 Southdown Road, Harpenden, AL5 1TE",0.263656473,null,null,"Residential",null,"Not developable within the next 15 years",null,"F-97",2636.5647300000001,0.263656473,"HELAA_Sites_Not_Deliverable"]
["UC13","Car Park adjacent to Verulam House, Verulam Road, St Albans, AL3 5EN",0.22167439359999999,null,null,"Residential",null,"Not developable within the next 15 years",null,"F-98",2216.7439359999998,0.22167439359999999,"HELAA_Sites_Not_Deliverable"]
["UC3","London Road Car Park, London Road, St Albans, AL1 1NG",0.57283074189999994,null,null,"Residential",null,"Not developable within the next 15 years",null,"F-99",5728.3074189999998,0.57283074189999994,"HELAA_Sites_Not_Deliverable"]
["UC10","Southview Car Park, Lower Luton Road, Harpenden, AL5 5AW",9.71849875E-2,null,null,"Residential",null,"Not developable within the next 15 years",null,"F-100",971.849875,9.71849875E-2,"HELAA_Sites_Not_Deliverable"]
["UC1","Sainsbury’s Supermarket, Everard Close, St Albans AL1 2QU",2.4465108421999999,null,null,"Residential",null,"Potentially developable in part",null,"F-101",24465.108422000001,2.4465108421999999,"HELAA_sites_with_potential"]
["UC28","New Greens Residents Association, 2 High Oaks, St Albans, AL3 6DL",0.20495811850000001,null,null,"Residential",null,"Potentially developable in part",null,"F-102",2049.581185,0.20495811850000001,"HELAA_sites_with_potential"]